BEGIN:VCALENDAR
VERSION:2.0
PRODID:-//wp-events-plugin.com//7.1.1//EN
TZID:Europe/London
X-WR-TIMEZONE:Europe/London
BEGIN:VEVENT
UID:2667@xyzbrighton.com
DTSTART;TZID=Europe/London:20190222T190000
DTEND;TZID=Europe/London:20190222T190000
DTSTAMP:20191122T025459Z
URL:https://xyzbrighton.com/events/vein/
SUMMARY:VEIN
DESCRIPTION:\nAfter releasing “one of the year’s most exhilarating heav
 y records” ‘Errorzone’ back in June\, we are stoked to have Bostonia
 n Hardcore Quintet Vein play GDS!\nhttp://veinband.bandcamp.com/\nhttp://v
 eintv.net\n\n\nHIGHER POWER\n\n\nFIND HIGHER POWER ONLINE :\n\nhttp://high
 erpowerleeds.bandcamp.com\n\n\n\nNARROW HEAD\n\n\nFIND NARROW HEAD ONLINE 
 :\n\nhttps://www.facebook.com/narrowheadtx \nhttp://narrowheadtx.bandcamp
 .com\n\n\n\n
ATTACH;FMTTYPE=image/jpeg:https://xyzbrighton.com/wp-content/uploads/2019/
 02/VEIN_Brighton.jpg
CATEGORIES:Live Music
LOCATION:\, \, 
X-APPLE-STRUCTURED-LOCATION;VALUE=URI;X-ADDRESS=\, ;X-APPLE-RADIUS=100;X-TI
 TLE=:geo:0,0
END:VEVENT
BEGIN:VTIMEZONE
TZID:Europe/London
X-LIC-LOCATION:Europe/London
BEGIN:STANDARD
DTSTART:20181028T010000
TZOFFSETFROM:+0100
TZOFFSETTO:+0000
TZNAME:GMT
END:STANDARD
END:VTIMEZONE
END:VCALENDAR