BEGIN:VCALENDAR
VERSION:2.0
PRODID:-//wp-events-plugin.com//7.1.1//EN
TZID:Europe/London
X-WR-TIMEZONE:Europe/London
BEGIN:VEVENT
UID:22463@xyzbrighton.com
DTSTART;TZID=Europe/London:20231204T103000
DTEND;TZID=Europe/London:20231204T120000
DTSTAMP:20231030T104644Z
URL:https://xyzbrighton.com/events/true-story-in-your-own-words-2023-12-04
 /
SUMMARY:True Story: In Your Own Words
DESCRIPTION:Explore how documentary and verbatim theatre techniques can be 
 used as storytelling tools.\nDevise a monologue based on recorded intervie
 ws\, learn the basics of screen acting and “pocket” filmmaking\, and t
 hen collaborate to make a short film\, all shot on your own phone!
ATTACH;FMTTYPE=image/jpeg:https://xyzbrighton.com/wp-content/uploads/2023/
 10/F5FF1473-61CC-4995-8C4A-965CCDA9F97E.jpeg
CATEGORIES:Cinema &amp; FIlm,Classes,Theatre
LOCATION:Lantern Theatre\, 77 St James Street\, Brighton\, England\, BN2 1P
 F\, Brighton and Hove\, United Kingdom
GEO:50.820756;-0.133357
X-APPLE-STRUCTURED-LOCATION;VALUE=URI;X-ADDRESS=77 St James Street\, Bright
 on\, England\, BN2 1PF\, Brighton and Hove\, United Kingdom;X-APPLE-RADIUS
 =100;X-TITLE=Lantern Theatre:geo:50.820756,-0.133357
END:VEVENT
BEGIN:VTIMEZONE
TZID:Europe/London
X-LIC-LOCATION:Europe/London
BEGIN:STANDARD
DTSTART:20231029T010000
TZOFFSETFROM:+0100
TZOFFSETTO:+0000
TZNAME:GMT
END:STANDARD
END:VTIMEZONE
END:VCALENDAR