BEGIN:VCALENDAR
VERSION:2.0
PRODID:-//wp-events-plugin.com//7.1.1//EN
TZID:Europe/London
X-WR-TIMEZONE:Europe/London
BEGIN:VEVENT
UID:19038@xyzbrighton.com
DTSTART;TZID=Europe/London:20211210T190000
DTEND;TZID=Europe/London:20211210T220000
DTSTAMP:20211115T180709Z
URL:https://xyzbrighton.com/events/tom-richards-live-w-n38-conclave-bright
 on-nai010-album-launch/
SUMMARY:Tom Richards Live w/ N38 @ Conclave Brighton // NAI010 Album Launch
DESCRIPTION:On the 10th of December we celebrate the launch of NAIAD.'s fir
 st V.A album\, NAI010:\n\n"An exploration of the juxtopositions and harmon
 ies of the organic and inorganic expressed through minimalist electronic s
 ound."\n\nJoining us for an evening of textured ambient\, deep and experim
 ental electronica in a gallery setting in the heart of Brighton\n𝐓𝐨
 𝐦 𝐑𝐢𝐜𝐡𝐚𝐫𝐝𝐬 (𝐋𝐢𝐯𝐞)\n\nTom Richards i
 s an artist\, musician\, DJ\, researcher and instrument designer working i
 n London UK. He has walked the line between sonic art\, sculpture and musi
 c since graduating with an MA in Fine Art from Chelsea College of Art in 2
 004. Richards has built his own idiosyncratic modular electronic music sys
 tem\, with which he creates slowly evolving and heavily textured polyrhyth
 mic improvisations. His individual approach and reductive palette lead to 
 a taut\, rhythmically focused sonic experience.\n\nHe has performed and ex
 hibited widely in the UK\, as well as internationally in the US\, Germany\
 , Peru\, Japan and Sweden.\n\nSelected works and live performances have ta
 ken place at Tate Britain\, The Queen Elizabeth Hall\, The Science Museum\
 , Spike Island\, Cafe Oto\, MK Gallery\, Bold Tendencies\, and Camden Arts
  Centre.\n\nIn 2018 he completed his PhD (Goldsmiths/Science Museum) on th
 e work of Daphne Oram: electronic music pioneer\, and founder of the BBC R
 adiophonic Workshop. This research included the construction of Oram’s u
 nrealised Mini Oramics synthesizer design (Circa 1975)\, a project that ha
 s since gained worldwide attention. He is represented by Nonclassical.\n\n
 \nTom Richards · 7pm\n&nbsp\;\n𝐍𝟑𝟖\nA veteran in the underground
  scene\, by 2008 he had earned multiple residencies across Athens where in
  2011 under the name Giles Leon he was a joint organiser of the Single Vis
 ion warehouse parties but it would be back in the UK among the contrasting
  industrial cityscapes and spacious subtlety of nature where the N38 proje
 ct would inevitably be inspired.\n\nIn 2016 after a stint as the in-house 
 sound engineer for Stage 3 at Hackney Empire he made the transition from t
 he capital\, soon gaining a residency with Wobbly Records and becoming a r
 egular on the Brighton scene.\n\nHe continues to push forward with his uni
 que flavour of organic techno- studying\, reflecting and staying active wi
 th numerous projects including his recent EP “Jeita” and his first wor
 ks on vinyl.\n\n&nbsp\;\n\n\nN38 · Epilogue (Act 2)\n&nbsp\;\n\nStandard 
 entry includes a complimentary glass of bubbly on arrival and the option t
 o buy the album at 20% off at time of ticket purchase. (USB to be collecte
 d from Conclave during event*)\n\n
ATTACH;FMTTYPE=image/jpeg:https://xyzbrighton.com/wp-content/uploads/2021/
 11/TR-at-focal-point-2017-credit-Thomas-Lock.jpg
CATEGORIES:Live Music
LOCATION:Conclave Brighton\,  9 Queens Road\, Brighton and Hove\, England\,
  BN1 3WA\, South East\, United Kingdom
GEO:50.824914;-0.143189
X-APPLE-STRUCTURED-LOCATION;VALUE=URI;X-ADDRESS= 9 Queens Road\, Brighton a
 nd Hove\, England\, BN1 3WA\, South East\, United Kingdom;X-APPLE-RADIUS=1
 00;X-TITLE=Conclave Brighton:geo:50.824914,-0.143189
END:VEVENT
BEGIN:VTIMEZONE
TZID:Europe/London
X-LIC-LOCATION:Europe/London
BEGIN:STANDARD
DTSTART:20211031T010000
TZOFFSETFROM:+0100
TZOFFSETTO:+0000
TZNAME:GMT
END:STANDARD
END:VTIMEZONE
END:VCALENDAR