BEGIN:VCALENDAR
VERSION:2.0
PRODID:-//wp-events-plugin.com//7.1.1//EN
TZID:Europe/London
X-WR-TIMEZONE:Europe/London
BEGIN:VEVENT
UID:24631@xyzbrighton.com
DTSTART;TZID=Europe/London:20251031T183000
DTEND;TZID=Europe/London:20251031T213000
DTSTAMP:20250930T092715Z
URL:https://xyzbrighton.com/events/tj-klune-keith-rosson-more-book-chat-fo
 r-the-freaky-fantastical/
SUMMARY:TJ Klune\, Keith Rosson & more - book chat for the freaky & fantast
 ical
DESCRIPTION:Join our incredible authors for an evening discussing all thing
 s genre from horror fiction to queer fantasyThis will be a seated event wi
 th two panels\, Q&amp\;As\, signing and photo opps. There will be a bar in
  the room and bookstore. Each ticket comes with a super exclusive goodie b
 ag. The venue is fully accessible (a small ramp can be used to enter the e
 vent)
ATTACH;FMTTYPE=image/jpeg:https://xyzbrighton.com/wp-content/uploads/2025/
 09/103139_image.jpg
CATEGORIES:Halloween,Talks
LOCATION:Harbour Hotel Brighton\, 64 Kings Road\, Brighton and Hove\, BN1 1
 NA\, Brighton and Hove\, England\, BN1 1NA\, United Kingdom
GEO:50.820633;-0.144282
X-APPLE-STRUCTURED-LOCATION;VALUE=URI;X-ADDRESS=64 Kings Road\, Brighton an
 d Hove\, BN1 1NA\, Brighton and Hove\, England\, BN1 1NA\, United Kingdom;
 X-APPLE-RADIUS=100;X-TITLE=Harbour Hotel Brighton:geo:50.820633,-0.144282
END:VEVENT
BEGIN:VTIMEZONE
TZID:Europe/London
X-LIC-LOCATION:Europe/London
BEGIN:STANDARD
DTSTART:20251026T010000
TZOFFSETFROM:+0100
TZOFFSETTO:+0000
TZNAME:GMT
END:STANDARD
END:VTIMEZONE
END:VCALENDAR