BEGIN:VCALENDAR
VERSION:2.0
PRODID:-//wp-events-plugin.com//7.1.1//EN
TZID:Europe/London
X-WR-TIMEZONE:Europe/London
BEGIN:VEVENT
UID:25117@xyzbrighton.com
DTSTART;TZID=Europe/London:20260412T190000
DTEND;TZID=Europe/London:20260412T200000
DTSTAMP:20260316T163841Z
URL:https://xyzbrighton.com/events/the-sunday-sound-bath/
SUMMARY:The Sunday Sound Bath
DESCRIPTION:Unwind at the end of the weekend with a calming and peaceful so
 und bathInviting you to join us at Patcham Memorial Hall for a relaxing en
 d to the weekend.Using sound to transport you\, help you unwind and connec
 t to your inner self. During the sound bath Himalayan and crystal singing 
 bowls\, gongs\, drums\, and gentle percussion will be played to create a r
 elaxing experience. As we start to unwind we can harmonise with the sounds
  and feel a sense of release and restoration through deep relaxation.You'r
 e invited to sit or lay down during the sound experience. Please bring a c
 omfortable mat to lie on\, blanket\, cushion and anything needed to suppor
 t with your comfort during the evening.You'll be welcomed into the hall 10
  minutes prior to the start time to settle into the space. Late comers can
 not be allowed entrance once the sound bath has started to reduce any disr
 uption to the relaxation experience.Looking forward to welcoming you to a 
 relaxing Sunday evening experience.Naomi ✨🌙🎶Creating welcoming and
  inclusive sound spaces for all.p.s as a precaution\, sound baths are not 
 advised for those in their first pregnancy trimester\, have a pacemaker\, 
 have experienced sound related seizures or currently experiencing severe m
 ental health. Please get in touch if you would like to discuss further.Sha
 ring some lovely feedback from attendees...."The sound bath was so beautif
 ul. Exactly what I needed. I loved the drumming at the end! And slept so w
 ell afterwards." Ragan"Thank you for last nights sound bath. It was so pea
 ceful and grounding and I'm looking forward to the next one! " - Allison"I
 ncredible session- Naomi was so considerate about everything- warmth comfo
 rt and even offered us tea to take home. Fantastic to have this opportunit
 y on the doorstep. Thanks for giving us the chance to be in touch with our
  bodies and relax. Even the room smelt great!" Zoe"I attended my first ses
 sion with Naomi at her wonderful sound bath. Naomi put me at ease and felt
  welcoming and calming. During the session I relaxed and could feel the re
 sonating sound affecting my physical being. The environment made me feel s
 afe and at peace and I was able to surrender to the process and really enj
 oyed an hour of peace\, tranquility and connection.""I couldn't believe ho
 w good I felt when I left the session! I was absolutely amazed and I felt 
 rejuvenated and energised I'll definitely be back for more sessions! Thank
  you Naomi!" Shelly
ATTACH;FMTTYPE=image/jpeg:https://xyzbrighton.com/wp-content/uploads/2026/
 03/104763_image.png
CATEGORIES:Health &amp; Wellbeing
LOCATION:Patcham Memorial Hall\, 3 Old London Road\, Brighton and Hove\, BN
 1\, UK\, Brighton and Hove\, England\, BN1\, UK\, United Kingdom
GEO:50.861443;-0.150937
X-APPLE-STRUCTURED-LOCATION;VALUE=URI;X-ADDRESS=3 Old London Road\, Brighto
 n and Hove\, BN1\, UK\, Brighton and Hove\, England\, BN1\, UK\, United Ki
 ngdom;X-APPLE-RADIUS=100;X-TITLE=Patcham Memorial Hall:geo:50.861443,-0.15
 0937
END:VEVENT
BEGIN:VTIMEZONE
TZID:Europe/London
X-LIC-LOCATION:Europe/London
BEGIN:DAYLIGHT
DTSTART:20260329T020000
TZOFFSETFROM:+0000
TZOFFSETTO:+0100
TZNAME:BST
END:DAYLIGHT
END:VTIMEZONE
END:VCALENDAR