BEGIN:VCALENDAR
VERSION:2.0
PRODID:-//wp-events-plugin.com//7.1.1//EN
TZID:Europe/London
X-WR-TIMEZONE:Europe/London
BEGIN:VEVENT
UID:19500@xyzbrighton.com
DTSTART;TZID=Europe/London:20220121T190000
DTEND;TZID=Europe/London:20220121T220000
DTSTAMP:20220104T105855Z
URL:https://xyzbrighton.com/events/the-quireboys-a-bit-of-what-you-fancy-3
 0-anniversary-tour/
SUMMARY:THE QUIREBOYS - A BIT OF WHAT YOU FANCY 30 ANNIVERSARY TOUR
DESCRIPTION:THE GIG CARTEL PRESENTS\nTHE QUIREBOYS - A BIT OF WHAT YOU FANC
 Y 30 ANNIVERSARY TOUR\nConcorde 2\nDoor Times 7:00pm - 10:00pm\n**Reschedu
 led from Thursday 28th January 2021. All tickets remain valid for the new 
 date**\nFollowing the announcement of the release of the re-recorded versi
 on of A Bit Of What You Fancy – to celebrate its 30th Anniversary – Th
 e Quireboys will embark on a special UK TOUR f\n\n“A Bit of What You Fan
 cy is where it all began for the Quireboys\,” says the band’s frontman
  Spike. “It was an incredible album that launched our career. However\, 
 the way we sound and play now doesn’t do it justice. Henceforth\, it has
  been a pleasure updating it to our modern-day Gypsy Rock &amp\; Roll Soun
 d. I’m sure everyone will enjoy this new version in all its glory\, mark
 ing its 30th Anniversary.”\n\nAustralian beer drinking rock n roll warri
 ors MASSIVE\, who are no strangers to the UK music scene\, are returning a
 s tour support for the Quireboys. The band are on the road promoting their
  3rd studio album Rebuild Destroy out now through Off Yer Rocka Recordings
 .\n\nSpecial Guest - Troy Redfern
ATTACH;FMTTYPE=image/jpeg:https://xyzbrighton.com/wp-content/uploads/2022/
 01/quireboys.jpg
CATEGORIES:Live Music
LOCATION:Concorde2\, Concorde2\, Madeira Drive\, Brighton\, BN2 1EN\, Unite
 d Kingdom
GEO:50.81716;-0.122425
X-APPLE-STRUCTURED-LOCATION;VALUE=URI;X-ADDRESS=Concorde2\, Madeira Drive\,
  Brighton\, BN2 1EN\, United Kingdom;X-APPLE-RADIUS=100;X-TITLE=Concorde2:
 geo:50.81716,-0.122425
END:VEVENT
BEGIN:VTIMEZONE
TZID:Europe/London
X-LIC-LOCATION:Europe/London
BEGIN:STANDARD
DTSTART:20211031T010000
TZOFFSETFROM:+0100
TZOFFSETTO:+0000
TZNAME:GMT
END:STANDARD
END:VTIMEZONE
END:VCALENDAR