BEGIN:VCALENDAR
VERSION:2.0
PRODID:-//wp-events-plugin.com//7.1.1//EN
TZID:Europe/London
X-WR-TIMEZONE:Europe/London
BEGIN:VEVENT
UID:23636@xyzbrighton.com
DTSTART;TZID=Europe/London:20250921T140000
DTEND;TZID=Europe/London:20250921T170000
DTSTAMP:20250825T042854Z
URL:https://xyzbrighton.com/events/the-last-of-the-lovely-days-album-launc
 h-the-prince-albert/
SUMMARY:THE LAST OF THE LOVELY DAYS ALBUM LAUNCH @ THE PRINCE ALBERT
DESCRIPTION:Swings &amp\; Roundabouts Promotions Presents:\n\nThe Last Of T
 he Lovely Days with support from Scare Taxi\nTHE LAST OF THE LOVELY DAYS\n
 Join Brighton’s own\, The Last Of The Lovely Days\, for an afternoon of 
 marvellous music as they launch their debut album ‘No Public House Talk
 ’ (Gare du Nord Records).\nAfter a run of sold out gigs since their July
  2024 debut\, this melodic indie pop band\, fronted by singer/songwriter A
 nnie O’Rourke\, will be showcasing their signature mix of catchy and ecl
 ectic tunes\, inspired by all their favourite things - jangly indie\, 60s 
 girl groups\, power pop\, classic 80s new wave and beyond.\nExpect an afte
 rnoon of sparkling guitar pop\, smart lyrics\, catchy melodies and fun! 
 ‘No Public House Talk’ will be released on vinyl and digital by Gare D
 u Nord Records on 19th September 2025.\nhttps://www.facebook.com/TLOTLD/\n
 https://www.instagram.com/the_last_of_the_lovely_days/\nhttps://thelastoft
 helovelydays.bandcamp.com/\n&nbsp\;\nSCARE TAXI\nScare Taxi are an alterna
 tive goth-pop-rock outfit that’s been shaking up the live music scene si
 nce their explosive debut at The Wedding Present's 2017 Edge Of The Sea Fe
 stival. With their unique blend of gritty goth rock\, infectious pop hooks
 \, and a dash of punk energy\, Tara Guitara and Boag have built a reputati
 on for bringing raw\, unfiltered energy to every gig.\nhttps://www.faceboo
 k.com/ScareTaxi/\nhttps://www.instagram.com/scare_taxi/\nhttps://scaretaxi
 .bandcamp.com/\nFacebook Event: https://www.facebook.com/events/1073885977
 409712/
ATTACH;FMTTYPE=image/jpeg:https://xyzbrighton.com/wp-content/uploads/2025/
 08/The-Last-of-the-Lovely-Days.jpg
CATEGORIES:Live Music
LOCATION:The Prince Albert\, 48 Trafalgar Street\, Brighton and Hove\, Engl
 and\, BN1 4ED\, United Kingdom
GEO:50.828464;-0.140406
X-APPLE-STRUCTURED-LOCATION;VALUE=URI;X-ADDRESS=48 Trafalgar Street\, Brigh
 ton and Hove\, England\, BN1 4ED\, United Kingdom;X-APPLE-RADIUS=100;X-TIT
 LE=The Prince Albert:geo:50.828464,-0.140406
END:VEVENT
BEGIN:VTIMEZONE
TZID:Europe/London
X-LIC-LOCATION:Europe/London
BEGIN:DAYLIGHT
DTSTART:20250330T020000
TZOFFSETFROM:+0000
TZOFFSETTO:+0100
TZNAME:BST
END:DAYLIGHT
END:VTIMEZONE
END:VCALENDAR