BEGIN:VCALENDAR
VERSION:2.0
PRODID:-//wp-events-plugin.com//7.1.1//EN
TZID:Europe/London
X-WR-TIMEZONE:Europe/London
BEGIN:VEVENT
UID:24736@xyzbrighton.com
DTSTART;TZID=Europe/London:20251031T203000
DTEND;TZID=Europe/London:20251031T230000
DTSTAMP:20251007T071618Z
URL:https://xyzbrighton.com/events/the-haunted-haus-of-boo-bettes-bebettes
 -cabaret-halloween-show/
SUMMARY:The Haunted Haus of Boo-Bette's- Bebette's Cabaret Halloween Show!
DESCRIPTION:Get ready to be seduced at Boo-Bette's Cabaret\, Hosted  by the
  one and only Bebe Boheme!👻✨ The Haunted Haus of Boo-bette’s Ex-Sca
 ra-Ganza ✨👻Awakens just once a year…This All Hallows’ Eve—Frida
 y\, October 31st—prepare to be spooked\, seduced\, and utterly spellboun
 d by a chilling Cabaret and Burlesque spectacular!Step inside our haunted 
 halls\, where glamorous ghouls\, sultry spirits\, and bewitching beauties 
 conjure an evening of spine-tingling performances\, decadent delights\, an
 d devilish surprises.🎃 One night only. Dare you enter the Haus? 🎃
ATTACH;FMTTYPE=image/jpeg:https://xyzbrighton.com/wp-content/uploads/2025/
 10/103660_image.jpg
CATEGORIES:Cabaret,Halloween
LOCATION:The Actors\, 4 Prince's Street\, Brighton and Hove\, BN2 1RD\, Bri
 ghton and Hove\, England\, BN2 1RD\, United Kingdom
GEO:50.822262;-0.135953
X-APPLE-STRUCTURED-LOCATION;VALUE=URI;X-ADDRESS=4 Prince's Street\, Brighto
 n and Hove\, BN2 1RD\, Brighton and Hove\, England\, BN2 1RD\, United King
 dom;X-APPLE-RADIUS=100;X-TITLE=The Actors:geo:50.822262,-0.135953
END:VEVENT
BEGIN:VTIMEZONE
TZID:Europe/London
X-LIC-LOCATION:Europe/London
BEGIN:STANDARD
DTSTART:20251026T010000
TZOFFSETFROM:+0100
TZOFFSETTO:+0000
TZNAME:GMT
END:STANDARD
END:VTIMEZONE
END:VCALENDAR