BEGIN:VCALENDAR
VERSION:2.0
PRODID:-//wp-events-plugin.com//7.1.1//EN
TZID:Europe/London
X-WR-TIMEZONE:Europe/London
BEGIN:VEVENT
UID:23613@xyzbrighton.com
DTSTART;TZID=Europe/London:20250912T190000
DTEND;TZID=Europe/London:20250912T230000
DTSTAMP:20250819T230231Z
URL:https://xyzbrighton.com/events/the-emo-festival-comes-to-brighton/
SUMMARY:The Emo Festival Comes to Brighton!
DESCRIPTION:The Emo Festival is coming to Brighton!DUE TO DEMAND The Emo Fe
 stival is coming BACK to Brighton! 💀🖤The greatest tribute night to t
 he music that was never just a phase… 🖤TEENAGE NOSTALGIA featuring al
 l your biggest emo songs in existence with A LIVE BAND &amp\; LIVE DJs spi
 nning all the angst your teenage dirtbag heart desires all night long! LIV
 E Performers &amp\; much more!Put on your eyeliner\, lace up your high-top
 s and get ready to rock to all your favourite nostalgic emo anthems!This e
 vent is 14+\, under 16s must be accompanied by an adult! Please note this 
 is a standing event!Disclaimer: The Emo Festival and its events are not af
 filiated with the artists listed. All trademarks are the property of their
  respective owners.Please note that in-line with normal consumer standards
  for ticket purchases\, tickets for The Emo Festival are non-refundable\, 
 unless we move the event or cancel it - any issues please don't hesitate t
 o contact our support team!www.emofest.co.uk
ATTACH;FMTTYPE=image/jpeg:https://xyzbrighton.com/wp-content/uploads/2025/
 08/101898_image.jpg
CATEGORIES:Festivals
LOCATION:Concorde 2\, 286A Madeira Drive\, Brighton and Hove\, BN2 1EN\, Br
 ighton and Hove\, England\, BN2 1EN\, United Kingdom
GEO:50.817278;-0.122525
X-APPLE-STRUCTURED-LOCATION;VALUE=URI;X-ADDRESS=286A Madeira Drive\, Bright
 on and Hove\, BN2 1EN\, Brighton and Hove\, England\, BN2 1EN\, United Kin
 gdom;X-APPLE-RADIUS=100;X-TITLE=Concorde 2:geo:50.817278,-0.122525
END:VEVENT
BEGIN:VTIMEZONE
TZID:Europe/London
X-LIC-LOCATION:Europe/London
BEGIN:DAYLIGHT
DTSTART:20250330T020000
TZOFFSETFROM:+0000
TZOFFSETTO:+0100
TZNAME:BST
END:DAYLIGHT
END:VTIMEZONE
END:VCALENDAR