BEGIN:VCALENDAR
VERSION:2.0
PRODID:-//wp-events-plugin.com//7.1.1//EN
TZID:Europe/London
X-WR-TIMEZONE:Europe/London
BEGIN:VEVENT
UID:21068@xyzbrighton.com
DTSTART:20230128T160000Z
DTEND:20230128T183000Z
DTSTAMP:20230126T195148Z
URL:https://xyzbrighton.com/events/the-comedy-experiment/
SUMMARY:The Comedy Experiment
DESCRIPTION:The Comedy Experiment is a new material comedy gig. With a rang
 e of abilities from completely new to professional.\n\n\n\n18+ 0nly. Doors
  open at 3.40pm for Prompt 4pm start. The Comedy Experiment is a new mater
 ial comedy gig. With a range of abilities from completely new to professio
 nal. Our TV headliner is Celya AB. This is FREE to book but please donate 
 cash/card on the day suggested minimum £5pp. This enables the gig to cont
 inue to book Top quality acts and helps towards our running costs.\n\n**Li
 ne ups maybe subject to change\n\n*** Ticket will be released at 4pm late 
 arrivals maybe turned away.\n\n\n
ATTACH;FMTTYPE=image/jpeg:https://xyzbrighton.com/wp-content/uploads/2023/
 01/94893_image.png
CATEGORIES:Comedy
LOCATION:Caroline Of Brunswick\, 39 Ditchling Road\, Brighton and Hove\, En
 gland\, BN1 4SB\, South East\, United Kingdom
GEO:50.83035;-0.134737
X-APPLE-STRUCTURED-LOCATION;VALUE=URI;X-ADDRESS=39 Ditchling Road\, Brighto
 n and Hove\, England\, BN1 4SB\, South East\, United Kingdom;X-APPLE-RADIU
 S=100;X-TITLE=Caroline Of Brunswick:geo:50.83035,-0.134737
END:VEVENT
END:VCALENDAR