BEGIN:VCALENDAR
VERSION:2.0
PRODID:-//wp-events-plugin.com//7.1.1//EN
TZID:Europe/London
X-WR-TIMEZONE:Europe/London
BEGIN:VEVENT
UID:18706@xyzbrighton.com
DTSTART;TZID=Europe/London:20211026T110000
DTEND;TZID=Europe/London:20211031T020000
DTSTAMP:20211013T094729Z
URL:https://xyzbrighton.com/events/the-art-of-g/
SUMMARY:The Art of G
DESCRIPTION:Over the course of the coronavirus pandemic\, Brighton Dome emp
 loyee Graham Cameron produced a series of striking illustrations detailing
  his experience of lockdown\, the impact of Covid-19 on the arts and his t
 ime furloughed from work.\n\nCameron’s artwork\, which includes illustra
 tions of much-loved Brighton landmarks such as the Palace Pier\, Royal Pav
 ilion and a stunning drawing of Brighton Dome\, will go on display in the 
 venue’s Founders Room from 26 to 31 October. Alongside familiar scenes o
 f the city and popular arts and entertainment venues\, Cameron uses colour
 ful motifs such as skulls\, doll-like characters and animals to describe h
 is feelings about lockdown\, isolation and the escape provided by the natu
 ral world.\n\n90% of the originals will be up for sale via an online aucti
 on with a 10% donation to Brighton Dome &amp\; Brighton Festival\, which i
 s a registered charity. There will also be copies of Cameron's book availa
 ble to buy. The Art of G: Illustrating My Way Through a Pandemic feature
 s a diary entry alongside each piece of artwork.\n\nFind out more about th
 e Cameron's work and the exhibition here.\n\nBid to own a piece of art fr
 om the exhibition\nThe online auction will run from Tue 26–Sun 31 Oct o
 n ebay\, bid here.\n\n[gallery size="medium" columns="2" link="file" ids=
 "88510\,88509\,88508\,88507" orderby="rand"]
ATTACH;FMTTYPE=image/jpeg:https://xyzbrighton.com/wp-content/uploads/2021/
 10/THE-ART-OF-G-BRIGHTON-DOME.jpg
CATEGORIES:Arts,Exhibitions,Free
LOCATION:Brighton Dome and Concert Hall\, Church Street\, Brighton and Hove
 \, England\, BN1 1UE\, South East\, United Kingdom
GEO:50.823686;-0.138141
X-APPLE-STRUCTURED-LOCATION;VALUE=URI;X-ADDRESS=Church Street\, Brighton an
 d Hove\, England\, BN1 1UE\, South East\, United Kingdom;X-APPLE-RADIUS=10
 0;X-TITLE=Brighton Dome and Concert Hall:geo:50.823686,-0.138141
END:VEVENT
BEGIN:VTIMEZONE
TZID:Europe/London
X-LIC-LOCATION:Europe/London
BEGIN:DAYLIGHT
DTSTART:20210328T020000
TZOFFSETFROM:+0000
TZOFFSETTO:+0100
TZNAME:BST
END:DAYLIGHT
BEGIN:STANDARD
DTSTART:20211031T010000
TZOFFSETFROM:+0100
TZOFFSETTO:+0000
TZNAME:GMT
END:STANDARD
END:VTIMEZONE
END:VCALENDAR