BEGIN:VCALENDAR
VERSION:2.0
PRODID:-//wp-events-plugin.com//7.1.1//EN
TZID:Europe/London
X-WR-TIMEZONE:Europe/London
BEGIN:VEVENT
UID:25005@xyzbrighton.com
DTSTART;TZID=Europe/London:20260502T201500
DTEND;TZID=Europe/London:20260502T233000
DTSTAMP:20260305T074157Z
URL:https://xyzbrighton.com/events/the-age-of-consent/
SUMMARY:The Age of Consent
DESCRIPTION:Bronski Beat’s defiant debut album\, live and reimagined thro
 ugh the voices of ground-breaking queer and trans contemporary artists inc
 luding Planningtorock\, Tom Rasmussen and Bishi.\nA piece of musical and p
 olitical history from 1980s Britain\, The Age of Consent is presented as y
 ou’ve never heard it before. This show features a powerhouse line-up inc
 luding Planningtorock\, Tom Rasmussen and Bishi\, plus more to be announce
 d. Backed by The Chateau Collective\; a specially curated queer house band
  performing bold new arrangements of the record\, including Smalltown Boy 
 and Why.\n\nAn unashamed portrait of radical queerness in 1980s Britain\, 
 this record marked a pivotal moment in LGBTIQA+ cultural history\, acting 
 as a beacon of hope for a generation of disenfranchised youth. Originally 
 staged in 2024 to celebrate the record’s 40th anniversary\, The Age of C
 onsent is now back by popular demand\, re-energised and revitalised.\n\nJo
 in us for a musical celebration\, and a collective call to action for the 
 work still to be done in the fight for queer and trans liberation.\n\nMusi
 c\nSat 2 May\, 8.15pm (doors 7.30pm)**\n\n£25\, £27.50\, £32.50*\nUnder
  30's £20\nSee more events with Under 30s pricing\n\nThis event is taking
  place at Brighton Dome Concert Hall\n\nNo unaccompanied Under 14s in the 
 venue\n\nReserved seating\n\n*There is a £3.50 per order charge for all p
 hone and online bookings (not applicable to Brighton Dome &amp\; Brighton 
 Festival members)\n\n**Stage timings are subject to change
ATTACH;FMTTYPE=image/jpeg:https://xyzbrighton.com/wp-content/uploads/2026/
 02/Age-of-Consent-Image.jpg
CATEGORIES:Live Music
LOCATION:Brighton Dome Concert Hall\, Church Street\, Brighton and Hove\, E
 ngland\, BN1 1UF\, Brighton and Hove\, United Kingdom
GEO:50.823467;-0.139612
X-APPLE-STRUCTURED-LOCATION;VALUE=URI;X-ADDRESS=Church Street\, Brighton an
 d Hove\, England\, BN1 1UF\, Brighton and Hove\, United Kingdom;X-APPLE-RA
 DIUS=100;X-TITLE=Brighton Dome Concert Hall:geo:50.823467,-0.139612
END:VEVENT
BEGIN:VTIMEZONE
TZID:Europe/London
X-LIC-LOCATION:Europe/London
BEGIN:DAYLIGHT
DTSTART:20260329T020000
TZOFFSETFROM:+0000
TZOFFSETTO:+0100
TZNAME:BST
END:DAYLIGHT
END:VTIMEZONE
END:VCALENDAR