BEGIN:VCALENDAR
VERSION:2.0
PRODID:-//wp-events-plugin.com//7.1.1//EN
TZID:Europe/London
X-WR-TIMEZONE:Europe/London
BEGIN:VEVENT
UID:23038@xyzbrighton.com
DTSTART;TZID=Europe/London:20250201T230000
DTEND;TZID=Europe/London:20250202T030000
DTSTAMP:20250108T094326Z
URL:https://xyzbrighton.com/events/swiftogeddon-the-taylor-themed-club-nig
 ht-brighton/
SUMMARY:Swiftogeddon - The Taylor Themed Club Night - Brighton
DESCRIPTION:Swiftogeddon: The Taylor Themed Club NightThe legendary night d
 edicated to worshipping at the altar of Taylor Swift: non-stop Swifty all 
 night: deep cuts\, extended mixes\, fan favourites and all the hits.Do you
  have a Blank Space in your diary? Then this night is Taylor-made for you!
  Join fellow fans in a celebration of the genius of the Swift - because sh
 e'll never go out of Style.This is an 18+ eventSwiftogeddon is not affilia
 ted with\, endorsed by\, authorised by\, sponsored by\, or in any way offi
 cially connected with Taylor Swift or any of her respective business entit
 ies or their affiliates or subsidiaries\, including but not limited to TAS
  Rights Management\, LLC. The name Taylor Swift as well as related names\,
  marks\, emblems and images are registered trademarks of their respective 
 owners. Furthermore\, Swiftogeddon is not affiliated with\, sponsored by\,
  or in any way officially connected with other third party entities that p
 rovide similar services and events to Swiftogeddon\; the similarity of any
  services and events are purely coincidental and does not imply any associ
 ation with such third party entities
ATTACH;FMTTYPE=image/jpeg:https://xyzbrighton.com/wp-content/uploads/2023/
 10/97989_image.jpg
CATEGORIES:DJ / Clubbing
LOCATION:Komedia Brighton\, 44-47 Gardner Street\, Brighton\, BN1 1UN\, Bri
 ghton\, East Sussex\, BN1 1UN\, United Kingdom
GEO:50.824885;-0.139417
X-APPLE-STRUCTURED-LOCATION;VALUE=URI;X-ADDRESS=44-47 Gardner Street\, Brig
 hton\, BN1 1UN\, Brighton\, East Sussex\, BN1 1UN\, United Kingdom;X-APPLE
 -RADIUS=100;X-TITLE=Komedia Brighton:geo:50.824885,-0.139417
END:VEVENT
BEGIN:VTIMEZONE
TZID:Europe/London
X-LIC-LOCATION:Europe/London
BEGIN:STANDARD
DTSTART:20241027T010000
TZOFFSETFROM:+0100
TZOFFSETTO:+0000
TZNAME:GMT
END:STANDARD
END:VTIMEZONE
END:VCALENDAR