BEGIN:VCALENDAR
VERSION:2.0
PRODID:-//wp-events-plugin.com//7.1.1//EN
TZID:Europe/London
X-WR-TIMEZONE:Europe/London
BEGIN:VEVENT
UID:3103@xyzbrighton.com
DTSTART;TZID=Europe/London:20190322T230000
DTEND;TZID=Europe/London:20190323T050000
DTSTAMP:20191122T035949Z
URL:https://xyzbrighton.com/events/supercharged-presents-my-nu-leng-m8s-at
 -the-arch/
SUMMARY:SuperCharged presents MY NU LENG &amp\; M8&#039\;s at The Arch
DESCRIPTION:SuperCharged x MY NU LENG &amp\; M8s My Nu Leng Friday March 22
 nd 11pm-5am\nSuperCharged presents MY NU LENG &amp\; M8's\nSuperCharged x 
 MY NU LENG &amp\; M8s\nMy Nu Leng\nFriday March 22nd\n11pm-5am\n&nbsp\;\nB
 ass heavyweights MY NU LENG will be bringing their infamous tour MY NU LEN
 G &amp\; M8s to Brighton once again for what promises to be their biggest 
 show yet.\nMY NU LENG &amp\; M8s\nROOM 2 TBA\nFacebook: SUPERCHARGEDUK\nTw
 itter: @Supercharged_UK\nInstagram: @superchargeduk\nArtist Information\n\
 n\nMy Nu Leng\n\n\nDread MC\nMusic Genres\nBass Music\, Bassline\, Drum n 
 Bass\, Electronic\n\n\n&nbsp\;
ATTACH;FMTTYPE=image/jpeg:https://xyzbrighton.com/wp-content/uploads/2019/
 02/SuperCharged-presents-MY-NU-LENG-M8s-at-The-Arch_Brighton.jpg
CATEGORIES:DJ / Clubbing
LOCATION:\, \, 
X-APPLE-STRUCTURED-LOCATION;VALUE=URI;X-ADDRESS=\, ;X-APPLE-RADIUS=100;X-TI
 TLE=:geo:0,0
END:VEVENT
BEGIN:VTIMEZONE
TZID:Europe/London
X-LIC-LOCATION:Europe/London
BEGIN:STANDARD
DTSTART:20181028T010000
TZOFFSETFROM:+0100
TZOFFSETTO:+0000
TZNAME:GMT
END:STANDARD
END:VTIMEZONE
END:VCALENDAR