BEGIN:VCALENDAR
VERSION:2.0
PRODID:-//wp-events-plugin.com//7.1.1//EN
TZID:Europe/London
X-WR-TIMEZONE:Europe/London
BEGIN:VEVENT
UID:2868@xyzbrighton.com
DTSTART;TZID=Europe/London:20190316T193000
DTEND;TZID=Europe/London:20190316T230000
DTSTAMP:20191122T030136Z
URL:https://xyzbrighton.com/events/st-patricks-day-ceilidh/
SUMMARY:St Patrick&#039\;s Day Ceilidh
DESCRIPTION:After the roaring success of our first ceilidh last Christmas\,
  we welcome you back through Fabrica's doors once more as we host a jolly
  crowd for our second dance. Ever more raucous than before\, come and cele
 brate a night of ceilidh dancing in honor of St Patrick's Day- we couldn't
  think of a better excuse to party!\nJoin us for an evening of live music 
 (and a fully stocked bar)\, led by the fabulous Brighton Ceilidh Collecti
 ve. A lively and enthusiastic band with a wealth of experience\, the colle
 ctive wonderfully capture the high energy\, vivacious and carefree attitud
 e of the ceilidh.\nTheir resident caller will give the crowd step-by-step 
 instructions\, but first-timers worry not\, as the freedom to throw yourse
 lf headlong into the party- no matter how many left feet you may have- is 
 what the dance is all about.\nSo\, grab a partner and get ready for some i
 nfectious rhythms and fast foot-tapping that will make this knees-up one t
 o remember!\nTickets £12\, with all proceeds going to charity.\nDue to th
 e nature of the ceilidh anyone under the age of 14 must be accompanied by 
 an adult.
ATTACH;FMTTYPE=image/jpeg:https://xyzbrighton.com/wp-content/uploads/2019/
 02/Screen-Shot-2019-02-27-at-12.50.34.png
CATEGORIES:Arts,Charity,Live Music,Parties,Performance
LOCATION:\, \, 
X-APPLE-STRUCTURED-LOCATION;VALUE=URI;X-ADDRESS=\, ;X-APPLE-RADIUS=100;X-TI
 TLE=:geo:0,0
END:VEVENT
BEGIN:VTIMEZONE
TZID:Europe/London
X-LIC-LOCATION:Europe/London
BEGIN:STANDARD
DTSTART:20181028T010000
TZOFFSETFROM:+0100
TZOFFSETTO:+0000
TZNAME:GMT
END:STANDARD
END:VTIMEZONE
END:VCALENDAR