BEGIN:VCALENDAR
VERSION:2.0
PRODID:-//wp-events-plugin.com//7.1.1//EN
TZID:Europe/London
X-WR-TIMEZONE:Europe/London
BEGIN:VEVENT
UID:22328@xyzbrighton.com
DTSTART;TZID=Europe/London:20231209T193000
DTEND;TZID=Europe/London:20231209T223000
DTSTAMP:20231004T132608Z
URL:https://xyzbrighton.com/events/st-marys-house-annual-christmas-cracker
 /
SUMMARY:St Mary's House Annual Christmas Cracker
DESCRIPTION:St Mary's Annual Traditional Christmas CrackerOur special celeb
 ration of Christmas in words and music with some pleasant surprises chosen
  from Peter Thorogood’s archive of poetry and prose\, including some of 
 this year’s famous anniversaries. Join us in a joyous\, reflective\, fes
 tive programme of songs\, carols and seasonal readings.\n\nSusan Jameson a
 nd James Bolam have made many stage appearances and been seen in many tele
 vision series\, including the BBC’s popular New Tricks.
ATTACH;FMTTYPE=image/jpeg:https://xyzbrighton.com/wp-content/uploads/2023/
 10/97566_image.jpg
CATEGORIES:Xmas
LOCATION:St Mary's House and Gardens\, The Street\, Bramber\, BN44 3WE\, Br
 amber\, England\, BN44 3WE\, United Kingdom
GEO:50.882894;-0.311383
X-APPLE-STRUCTURED-LOCATION;VALUE=URI;X-ADDRESS=The Street\, Bramber\, BN44
  3WE\, Bramber\, England\, BN44 3WE\, United Kingdom;X-APPLE-RADIUS=100;X-
 TITLE=St Mary's House and Gardens:geo:50.882894,-0.311383
END:VEVENT
BEGIN:VTIMEZONE
TZID:Europe/London
X-LIC-LOCATION:Europe/London
BEGIN:STANDARD
DTSTART:20231029T010000
TZOFFSETFROM:+0100
TZOFFSETTO:+0000
TZNAME:GMT
END:STANDARD
END:VTIMEZONE
END:VCALENDAR