BEGIN:VCALENDAR
VERSION:2.0
PRODID:-//wp-events-plugin.com//7.1.1//EN
TZID:Europe/London
X-WR-TIMEZONE:Europe/London
BEGIN:VEVENT
UID:19552@xyzbrighton.com
DTSTART:20220204T180000Z
DTEND:20220204T210000Z
DTSTAMP:20220104T211901Z
URL:https://xyzbrighton.com/events/sri-lankan-cookery-with-chef-kanthi-fro
 m-easy-tiger-in-person/
SUMMARY:Sri Lankan cookery with Chef Kanthi from Easy Tiger (in person)
DESCRIPTION:Inspired by his food tours in Sri Lanka\, Chef Kanthi shares hi
 s favourite authentic dishes.\n\n\n\nChef Kanthi brings the authentic tast
 es of Sri Lanka to the Community Kitchen\, sharing his professional cookin
 g techniques and flavour combinations so you can prepare a delicious Sri L
 ankan meal in Brighton.\n\nYou will work in pairs to prepare a typical men
 u including varied dishes such as: a classic coconut sambol\, Sri Lankan a
 ubergine\, green gram (mung bean) salad\, Kukul Mas Curry - a local chicke
 n (or vegetable) curry - or Kaha Bath (traditional yellow rice).\n\nWhat p
 revious participants said: "Kanthi was a great teacher &amp\; the food was
  amazing!" "Very well explained &amp\; great info on Sri Lanka and how the
  food differs from Indian" "I will definitely make this meal. Picked up so
 me great tips."\n\nFind out more about Kanthi and the other cooks who teac
 h in the Community Kitchen.\n\nDietary information: This class is adaptabl
 e for vegetarian and vegan diets but this must be specified when booking. 
 The menu is also gluten-free however we cannot guarantee the kitchen is a 
 fully gluten-free environment. For any other allergies or dietary requirem
 ents\, please contact us to discuss before booking.\n\nTickets for this ev
 ent include:\n\n 	professional cookery tuition\n 	all ingredients and equi
 pment\n 	hot drinks throughout the session\n 	a full meal to takeaway and 
 enjoy after the session (please bring containers if you can but we can pro
 vide these if needed)\n 	all recipes from the class.\n\nAny profits raised
  from this class support our community cookery activities – where everyo
 ne can experience the benefits of cooking and eating together\, regardless
  of finance\, confidence or ability. Find out more about how we invest in 
 people\, the local community and our wider environment.\n\nCovid-19\, safe
 ty &amp\; accessibility information\n\nIf new restrictions are announced\,
  we will adapt our procedures according to the latest government guideline
 s and any updates will be sent by email and listed on our website. Our Kit
 chen space continues to be kept to a very high standard of cleaning and hy
 giene. The Kitchen also has facilities for disabled access and is easily r
 eached by public transport or car. Find out more.\n\nTicket pricing\n\nTic
 kets for this event are £59.99\, or £109.98 when booking two tickets at 
 once\, click 'enter promotional code' and use BRINGAFRIEND to access this.
  At most classes\, food is prepared in pairs\, but dishes can be adapted t
 o individual tastes if needed.\n\nWe have a limited number of tickets avai
 lable at a concession rate of £39.99 for those who are in receipt of a me
 ans-tested benefit\, under-18s (must be accompanied by an adult)\, as well
  as full-time students. If available\, these options will appear in the dr
 op-down when purchasing your ticket.\n\nPlease note that only one gift vou
 cher or discount code can be used per purchase\, click ‘enter promo code
 ’ to submit these details. If you need assistance please contact us.\n\n
 Refund policy:\n\nWe are unable to provide refunds except if there is a mi
 stake with the booking and we are notified within 48 hours after booking. 
 In the event of any change in government covid guidelines\, we will resche
 dule classes if necessary and bookings will be valid for the new date or c
 an be transferred to another event.\n\nIf you are unable to attend your cl
 ass for any reason\, we encourage you to transfer your booking to a friend
  who can attend in your place. Please provide us with the new attendee's d
 etails before the class starts by emailing info@bhfood.org.uk. Thank you f
 or your understanding and support.\n\n\n
ATTACH;FMTTYPE=image/jpeg:https://xyzbrighton.com/wp-content/uploads/2022/
 01/90201_image.png
CATEGORIES:Classes,Food &amp; Drink
LOCATION:The Community Kitchen\, 113 Queens Road \, Brighton and Hove\, Eng
 land\, BN1 3XG\, South East\, United Kingdom
GEO:50.825853;-0.142257
X-APPLE-STRUCTURED-LOCATION;VALUE=URI;X-ADDRESS=113 Queens Road \, Brighton
  and Hove\, England\, BN1 3XG\, South East\, United Kingdom;X-APPLE-RADIUS
 =100;X-TITLE=The Community Kitchen:geo:50.825853,-0.142257
END:VEVENT
END:VCALENDAR