BEGIN:VCALENDAR
VERSION:2.0
PRODID:-//wp-events-plugin.com//7.1.1//EN
TZID:Europe/London
X-WR-TIMEZONE:Europe/London
BEGIN:VEVENT
UID:22561@xyzbrighton.com
DTSTART;TZID=Europe/London:20240503T200000
DTEND;TZID=Europe/London:20240503T230000
DTSTAMP:20240117T203921Z
URL:https://xyzbrighton.com/events/south-coast-soul-revue-opening-night-of
 -brighton-fringe-festival/
SUMMARY:South Coast Soul Revue - Opening Night of Brighton Fringe Festival
DESCRIPTION:What better way to start the weekend and the opening night of B
 righton Fringe Festival than partying to some sweet soul music.\n\nTwo hou
 rs of solid gold soul 'n' funk. With the sensational Carol and Danny provi
 ding vocals\; the funky horns of Laurent and Tommy\; and a rhythm section 
 reminiscent of Motown’s Funk Brothers\, you are guaranteed a great night
  of live music.\n\nDancing optional – but highly recommended!\n\nFaceboo
 k\n\nInstagram\n\nYouTube
ATTACH;FMTTYPE=image/jpeg:https://xyzbrighton.com/wp-content/uploads/2024/
 01/Full-Band-1-XYZ-2.jpg
CATEGORIES:Live Music
LOCATION:The Brunswick\, 1 Holland Road\, Brighton &amp\; Hove\, BN3 1JF \,
  United Kingdom
X-APPLE-STRUCTURED-LOCATION;VALUE=URI;X-ADDRESS=1 Holland Road\, Brighton &
  Hove\, BN3 1JF \, United Kingdom;X-APPLE-RADIUS=100;X-TITLE=The Brunswick
 :geo:0,0
END:VEVENT
BEGIN:VTIMEZONE
TZID:Europe/London
X-LIC-LOCATION:Europe/London
BEGIN:DAYLIGHT
DTSTART:20240331T020000
TZOFFSETFROM:+0000
TZOFFSETTO:+0100
TZNAME:BST
END:DAYLIGHT
END:VTIMEZONE
END:VCALENDAR