BEGIN:VCALENDAR
VERSION:2.0
PRODID:-//wp-events-plugin.com//7.1.1//EN
TZID:Europe/London
X-WR-TIMEZONE:Europe/London
BEGIN:VEVENT
UID:22994@xyzbrighton.com
DTSTART;TZID=Europe/London:20241205T140000
DTEND;TZID=Europe/London:20241223T193000
DTSTAMP:20241128T091403Z
URL:https://xyzbrighton.com/events/sinnas-grotto-5-spray-paint-art-worksho
 p/
SUMMARY:SINNA'S GROTTO 5 -SPRAY PAINT ART WORKSHOP
DESCRIPTION:Come and learn basic spray paint techniques with BRIGHTON STREE
 T ARTIST\, SINNA ONE\, and create YOUR ART BIG ON A WALL.The holiday seaso
 n is upon us and whether that means Christmas\, Hannukah\, Kwanzaa\, Yule\
 , Bodhi Day\, or any other celebration from across the globe\, it normally
  means getting together with friends and family\, sharing\, eating\, celeb
 rating and giving gifts.Renowned Brighton Street Artist\, Sinna One is bac
 k once again at Gallery Lock In with his Grotto\, where he shall be painti
 ng the walls of the space and offering insight in to spray painting skills
  and displaying some of his art.With workshops available throughout Decemb
 er and January\, you can enter the world of Sinna and spray paint craft. P
 aint big on a wall\, paint small with stencils\, create unique artworks to
  take home and keep or gift to your loved ones.We provide everything that 
 you need\, art materials\, protective clothing and all the artistic expert
 ise to get the creative juices flowing.This workshop is for individuals or
  a group to come and leatrn the basics of Spray Paint Art.Learn Can Contro
 l\, Using different nozzles and how to create your street art piece from s
 ketch\, fill to completion.Workshops are 1.5 hours and include the use of 
 paint to create your art BIG on a wall.This is a great family activity.Act
 ivity is suitable for Children aged 8 and up.The workshop is ideal for Tee
 ns up to Adult.Please take in to consideration that spray paint can be haz
 ardous to health. Not suitable for people with breathing problems and alle
 rgies to aerosols.Tickets for up to 4 people are available. Max 6 people p
 er workshop.If you require an individual booking please get in touch here.
 Be sure to visit the Robin Hood Pub after the workshop for Mulled drinks a
 nd delicious food and snacks. This is located opposite the venue. They can
  also offer refreshments during the session too.There is no available park
 ing for the venue. There are NCP locations nearby and some on street parki
 ng in the surrounding area.
ATTACH;FMTTYPE=image/jpeg:https://xyzbrighton.com/wp-content/uploads/2024/
 11/99514_image.jpg
CATEGORIES:Arts
LOCATION:GALLERY LOCK IN BRIGHTON\, Little Western Street\, Hove\, BN1 2PU\
 , Hove\, England\, BN1 2PU\, United Kingdom
GEO:50.824474;-0.155673
X-APPLE-STRUCTURED-LOCATION;VALUE=URI;X-ADDRESS=Little Western Street\, Hov
 e\, BN1 2PU\, Hove\, England\, BN1 2PU\, United Kingdom;X-APPLE-RADIUS=100
 ;X-TITLE=GALLERY LOCK IN BRIGHTON:geo:50.824474,-0.155673
END:VEVENT
BEGIN:VTIMEZONE
TZID:Europe/London
X-LIC-LOCATION:Europe/London
BEGIN:STANDARD
DTSTART:20241027T010000
TZOFFSETFROM:+0100
TZOFFSETTO:+0000
TZNAME:GMT
END:STANDARD
END:VTIMEZONE
END:VCALENDAR