BEGIN:VCALENDAR
VERSION:2.0
PRODID:-//wp-events-plugin.com//7.1.1//EN
TZID:Europe/London
X-WR-TIMEZONE:Europe/London
BEGIN:VEVENT
UID:7155@xyzbrighton.com
DTSTART;TZID=Europe/London:20200227T230000
DTEND;TZID=Europe/London:20200227T230000
DTSTAMP:20200214T000204Z
URL:https://xyzbrighton.com/events/secret-discotheque-2-2020-02-27/
SUMMARY:SECRET DISCOTHEQUE
DESCRIPTION:Secret Discotheque is the hottest pop party in Brighton town\, 
 not only do our DJs play stellar pop songs from across the decades\, but y
 our night out will be accompanied by an immersive light show and video exp
 erience. It’s like nothing you’ve ever seen before!\n\nYou can expect 
 to hear: Justin Bieber\, Taylor Swift\, Michael Jackson\, Avril Lavigne\, 
 Spice Girls\, Kelly Clarkson\, Dua Lipa\, Busted\, S Club 7\, 5ive\, Blink
  182\, Whitney Houston\, Madonna\, Abba\, Fresh Prince\, Bon Jovi\, Guns N
  Roses\, Sum 41\, Dua Lipa\, Katy Perry\, JP Cooper\, Louis Tomlinson\, Jo
 nas Blue\, One Direction\, and much much more.\n\n\nTickets are valid all 
 night.\n\nAll tickets include queue jump when you arrive before midnight!\
 n\nDrink Deals\n\n 	£2.10 Bottle Beers\n 	£1 Pints of C H A L K Beer bef
 ore 12:30\n 	£1.50 Single Vodka + Mixer All Night\n 	£2.50 Double Vodka 
 + Mixer All Night\n 	5 J-Bombs For £5 Before 12: 30. £2 Each After\n\nPr
 ice: First Release: £1\, Second Release: £4\, Third Release: £5+
ATTACH;FMTTYPE=image/jpeg:https://xyzbrighton.com/wp-content/uploads/2020/
 02/SECRET-DISCOTHEQUE_Brighton.jpg
CATEGORIES:DJ / Clubbing
LOCATION:CHALK\, 13 Pool Valley\, Brighton and Hove\, England\, BN1 1NJ\, U
 nited Kingdom
GEO:50.820157;-0.138693
X-APPLE-STRUCTURED-LOCATION;VALUE=URI;X-ADDRESS=13 Pool Valley\, Brighton a
 nd Hove\, England\, BN1 1NJ\, United Kingdom;X-APPLE-RADIUS=100;X-TITLE=CH
 ALK:geo:50.820157,-0.138693
END:VEVENT
BEGIN:VTIMEZONE
TZID:Europe/London
X-LIC-LOCATION:Europe/London
BEGIN:STANDARD
DTSTART:20191027T010000
TZOFFSETFROM:+0100
TZOFFSETTO:+0000
TZNAME:GMT
END:STANDARD
END:VTIMEZONE
END:VCALENDAR