BEGIN:VCALENDAR
VERSION:2.0
PRODID:-//wp-events-plugin.com//7.1.1//EN
TZID:Europe/London
X-WR-TIMEZONE:Europe/London
BEGIN:VEVENT
UID:19045@xyzbrighton.com
DTSTART;TZID=Europe/London:20211207T200000
DTEND;TZID=Europe/London:20211208T223000
DTSTAMP:20211122T110902Z
URL:https://xyzbrighton.com/events/scoops-improv-comedy-night-at-grand-cen
 tral-2021-12-07/
SUMMARY:Scoops Improv Comedy Night at Grand Central
DESCRIPTION:Some of the best improv troupes from Brighton and beyond join f
 orces for a hilarious night of comedy\, completely made up on the spot!\n\
 nJoin us each month in the Grand Central's beautiful Nightingale Room for 
 scoops and scoops of silliness! Every show sees a brand new collection of 
 brilliant improvisers\, ready to spin your suggestions into comedy gold an
 d make themselves look utterly ridiculous for your entertainment.\n\nWith 
 performers flying by the seat of their pants\, it's certain to be surprisi
 ng\, hilarious\, and totally unforgettable!\n\nFollow us:\n\nfacebook.com/
 Scoopsimprov\n\ntwitter.com/scoopsimprov\n\ninstagram.com/scoopsimprov
ATTACH;FMTTYPE=image/jpeg:https://xyzbrighton.com/wp-content/uploads/2021/
 11/visitbrighton.jpg
CATEGORIES:Comedy,Theatre
LOCATION:Grand Central\, Brighton\, 29-30 Surrey St\, Brighton\, BN1 3PA\, 
 United Kingdom
GEO:50.828637;-0.141742
X-APPLE-STRUCTURED-LOCATION;VALUE=URI;X-ADDRESS=29-30 Surrey St\, Brighton\
 , BN1 3PA\, United Kingdom;X-APPLE-RADIUS=100;X-TITLE=Grand Central\, Brig
 hton:geo:50.828637,-0.141742
END:VEVENT
BEGIN:VTIMEZONE
TZID:Europe/London
X-LIC-LOCATION:Europe/London
BEGIN:STANDARD
DTSTART:20211031T010000
TZOFFSETFROM:+0100
TZOFFSETTO:+0000
TZNAME:GMT
END:STANDARD
END:VTIMEZONE
END:VCALENDAR