BEGIN:VCALENDAR
VERSION:2.0
PRODID:-//wp-events-plugin.com//7.1.1//EN
TZID:Europe/London
X-WR-TIMEZONE:Europe/London
BEGIN:VEVENT
UID:3636@xyzbrighton.com
DTSTART;TZID=Europe/London:20170905T200000
DTEND;TZID=Europe/London:20170905T230000
DTSTAMP:20191122T041331Z
URL:https://xyzbrighton.com/events/american-music-club/
SUMMARY:American Music Club
DESCRIPTION:Live music\, corn dogs\, brownies and of course tons of booze.
ATTACH;FMTTYPE=image/jpeg:https://xyzbrighton.com/wp-content/uploads/2017/
 06/revelator-800x445-1.png
CATEGORIES:Live Music
LOCATION:\, \, 
X-APPLE-STRUCTURED-LOCATION;VALUE=URI;X-ADDRESS=\, ;X-APPLE-RADIUS=100;X-TI
 TLE=:geo:0,0
END:VEVENT
BEGIN:VTIMEZONE
TZID:Europe/London
X-LIC-LOCATION:Europe/London
BEGIN:DAYLIGHT
DTSTART:20170326T020000
TZOFFSETFROM:+0000
TZOFFSETTO:+0100
TZNAME:BST
END:DAYLIGHT
END:VTIMEZONE
END:VCALENDAR