BEGIN:VCALENDAR
VERSION:2.0
PRODID:-//wp-events-plugin.com//7.1.1//EN
TZID:Europe/London
X-WR-TIMEZONE:Europe/London
BEGIN:VEVENT
UID:18484@xyzbrighton.com
DTSTART;TZID=Europe/London:20210925T193000
DTEND;TZID=Europe/London:20210925T223000
DTSTAMP:20210922T190644Z
URL:https://xyzbrighton.com/events/rob-brydon-a-night-of-songs-and-laughte
 r-at-brighton-dome/
SUMMARY:Rob Brydon - A Night of Songs and Laughter at Brighton Dome
DESCRIPTION:A night of fun\, songs and laughter with one of our favourite c
 omedians! Hear an unexpected and of course hugely entertaining selection o
 f songs from the likes of Tom Waits through to Tom Jones\, Guys and Dolls 
 to Elvis and everything in between\, and enjoy Rob's usual dry hilarity li
 ve on stage!\n\nCheck out Rob on Facebook here:\nwww.facebook.com/robbrydo
 nlive\n\n&nbsp\;\n\n&nbsp\;
ATTACH;FMTTYPE=image/jpeg:https://xyzbrighton.com/wp-content/uploads/2021/
 08/BRYDON.jpg
CATEGORIES:Comedy
LOCATION:Brighton Dome and Concert Hall\, Church Street\, Brighton and Hove
 \, England\, BN1 1UE\, South East\, United Kingdom
GEO:50.823686;-0.138141
X-APPLE-STRUCTURED-LOCATION;VALUE=URI;X-ADDRESS=Church Street\, Brighton an
 d Hove\, England\, BN1 1UE\, South East\, United Kingdom;X-APPLE-RADIUS=10
 0;X-TITLE=Brighton Dome and Concert Hall:geo:50.823686,-0.138141
END:VEVENT
BEGIN:VTIMEZONE
TZID:Europe/London
X-LIC-LOCATION:Europe/London
BEGIN:DAYLIGHT
DTSTART:20210328T020000
TZOFFSETFROM:+0000
TZOFFSETTO:+0100
TZNAME:BST
END:DAYLIGHT
END:VTIMEZONE
END:VCALENDAR