BEGIN:VCALENDAR
VERSION:2.0
PRODID:-//wp-events-plugin.com//7.1.1//EN
TZID:Europe/London
X-WR-TIMEZONE:Europe/London
BEGIN:VEVENT
UID:24919@xyzbrighton.com
DTSTART;TZID=Europe/London:20260109T103000
DTEND;TZID=Europe/London:20271210T123000
DTSTAMP:20260116T124122Z
URL:https://xyzbrighton.com/events/revive-health-fitness-walking-events-le
 ts-stride-together/
SUMMARY:Revive Health Fitness Walking Events - Let's Stride Together!
DESCRIPTION:Free Net Walking ExperienceDiscover a perfect blend of business
  connections\, social interaction\, community spirit and wellness\, as you
  walk across the Ashdown Forest.Want to embark on a scenic walking experie
 nce across the Ashdown Forest?Revive Health Fitness welcomes you to a tran
 sformative walking experience in the heart of the Ashdown Forest. Whether 
 you’re a seasoned professional seeking new business opportunities or a c
 ommunity member keen to expand your social circle\, walking across the Ash
 down Forest provides the ideal setting to exchange ideas\, gain insights a
 nd cultivate lasting connections.Your FREE net-walking experience is in su
 pport of West Kent Mind\, we would like to kindly ask walkers to make a sm
 all donation (£5 ) for their expereince. Any donations will be gratefully
  recieved. Donations can be made via our fund raising West Kent Mind page.
  Please quote letters (NW/) in brackets\, followed by the appropriate mont
 h numeral (1-12) when making your donations.. Any small donation will be g
 ratefully recieved.Complimentary refreshments will be served after your wa
 lk. Children and dog walkers welcome!Walk with purpose\, network with impa
 ct\, and make a positive difference for mental health.
ATTACH;FMTTYPE=image/jpeg:https://xyzbrighton.com/wp-content/uploads/2026/
 01/104459_image.jpg
CATEGORIES:Other
LOCATION:Ashdown Park Hotel & Country Club\, Wych Cross\, Forest Row\, East
  Grinstead\, UK\, Wych Cross\, Forest Row\, RH18 5JR\, Forest Row\, Englan
 d\, RH18 5JR\, United Kingdom
GEO:51.070849;0.041011
X-APPLE-STRUCTURED-LOCATION;VALUE=URI;X-ADDRESS=Wych Cross\, Forest Row\, R
 H18 5JR\, Forest Row\, England\, RH18 5JR\, United Kingdom;X-APPLE-RADIUS=
 100;X-TITLE=Ashdown Park Hotel & Country Club\, Wych Cross\, Forest Row\, 
 East Grinstead\, UK:geo:51.070849,0.041011
END:VEVENT
BEGIN:VTIMEZONE
TZID:Europe/London
X-LIC-LOCATION:Europe/London
BEGIN:STANDARD
DTSTART:20251026T010000
TZOFFSETFROM:+0100
TZOFFSETTO:+0000
TZNAME:GMT
END:STANDARD
BEGIN:DAYLIGHT
DTSTART:20260329T020000
TZOFFSETFROM:+0000
TZOFFSETTO:+0100
TZNAME:BST
END:DAYLIGHT
BEGIN:STANDARD
DTSTART:20261025T010000
TZOFFSETFROM:+0100
TZOFFSETTO:+0000
TZNAME:GMT
END:STANDARD
BEGIN:DAYLIGHT
DTSTART:20270328T020000
TZOFFSETFROM:+0000
TZOFFSETTO:+0100
TZNAME:BST
END:DAYLIGHT
BEGIN:STANDARD
DTSTART:20271031T010000
TZOFFSETFROM:+0100
TZOFFSETTO:+0000
TZNAME:GMT
END:STANDARD
END:VTIMEZONE
END:VCALENDAR