BEGIN:VCALENDAR
VERSION:2.0
PRODID:-//wp-events-plugin.com//7.1.1//EN
TZID:Europe/London
X-WR-TIMEZONE:Europe/London
BEGIN:VEVENT
UID:2940@xyzbrighton.com
DTSTART;TZID=Europe/London:20190217T130000
DTEND;TZID=Europe/London:20190217T200000
DTSTAMP:20191122T030140Z
URL:https://xyzbrighton.com/events/pop-up-kitchen-yorky-wrap/
SUMMARY:Pop up kitchen: yorky wrap
DESCRIPTION:Perfect chilled or recovery Sunday!\nTried and tested hangover 
 cure….\nGood food\, drink\, friends and soothing sounds in the famous Pe
 lirocco front room atmosphere.\nAll the trimmings of a Sunday Roast with a
  special such as Beef Brisket\, Lemon and Rosemary Chicken\, Smoked Pulled
  Pork\, Veggie Sausages or Roasted Cauliflower all wrapped up in a delicio
 us giant Yorkshire Pudding with jugs of gravy on the side.\nVeggie and yes
 \, VEGAN options available!\n£5.75 mini wrap\, £9.75 full wrap.\nSides o
 f extra crispy roast potatoes or creamy cauliflower cheese\, weekly puddin
 g and cocktail deals also available.\nBar open til midnight.
ATTACH;FMTTYPE=image/jpeg:https://xyzbrighton.com/wp-content/uploads/2019/
 02/pop-up-kitchen-yorky-wrap_Brighton.png
CATEGORIES:Food &amp; Drink
LOCATION:\, \, 
X-APPLE-STRUCTURED-LOCATION;VALUE=URI;X-ADDRESS=\, ;X-APPLE-RADIUS=100;X-TI
 TLE=:geo:0,0
END:VEVENT
BEGIN:VTIMEZONE
TZID:Europe/London
X-LIC-LOCATION:Europe/London
BEGIN:STANDARD
DTSTART:20181028T010000
TZOFFSETFROM:+0100
TZOFFSETTO:+0000
TZNAME:GMT
END:STANDARD
END:VTIMEZONE
END:VCALENDAR