BEGIN:VCALENDAR
VERSION:2.0
PRODID:-//wp-events-plugin.com//7.1.1//EN
TZID:Europe/London
X-WR-TIMEZONE:Europe/London
BEGIN:VEVENT
UID:23522@xyzbrighton.com
DTSTART;TZID=Europe/London:20250627T200000
DTEND;TZID=Europe/London:20250627T233000
DTSTAMP:20250615T074524Z
URL:https://xyzbrighton.com/events/party-bag-the-newcastle-takeover/
SUMMARY:Party Bag- The Newcastle Takeover
DESCRIPTION:Areet Pet? Are you clamming for some more Partybag? “WEY AYE 
 MAN!” We hear you cry!AGE LIMIT- 16+ Anyone under 18 MUST be accompanied
  by an adult.Areet Pet? Are you clamming for some more Partybag? “WEY AY
 E MAN!” We hear you cry!Well\, get yourself ready because we have a NEWC
 ASTLE TAKEOVER happening with our latest “Geordie? Sure!” Edition.Ophe
 lia and Dick will be bringing you the usual drag silliness with everyone
 ’s favourite drag nan PAM sweeping up the competition and the stage!DJ D
 an will be banging out some Northern Party tunes and cracking open some Ne
 wkie Browns!Our canny Geordie beauties are :They’re a clown for all seas
 ons and our favourite silly confection - SWEETBOYShe’s Sally\, the Sally
 \, the only Sally and she will sue anyone who says otherwise as she’s a 
 registered trademark - SALLY TMNewcastle’s finest export\, Sports Direct
  ambassador and everything you love about the canny Geordie lasses. If we 
 are lucky she’ll be bringing wor lad with her - CHERYL COAL AND JIMMY NA
 ILZ@thisisopheliapayne@dickdaydraghag@suchasweetboy@sally.trademark@lenale
 man@dragnanpam@danleostanleyDoors 7pmShow 8pmAfterparty 10-12Early bird ti
 ckets available NOWSEATINGVIP tables of 2 and 4 and unreserved seating.Ple
 ase let us know in advance if you require a wheelchair spaceIf you are eli
 gible for a free PA/carer ticket you can apply hereFor more info and shows
 - www.ironworks-studios.co.ukBy purchasing a ticket you are agreeing to th
 e venue's terms &amp\; conditions
ATTACH;FMTTYPE=image/jpeg:https://xyzbrighton.com/wp-content/uploads/2025/
 06/100688_image.png
CATEGORIES:Comedy
LOCATION:Ironworks Studios\, 30 Cheapside\, Brighton\, BN1 4GD\, Brighton\,
  England\, BN1 4GD\, United Kingdom
GEO:50.829336;-0.138497
X-APPLE-STRUCTURED-LOCATION;VALUE=URI;X-ADDRESS=30 Cheapside\, Brighton\, B
 N1 4GD\, Brighton\, England\, BN1 4GD\, United Kingdom;X-APPLE-RADIUS=100;
 X-TITLE=Ironworks Studios:geo:50.829336,-0.138497
END:VEVENT
BEGIN:VTIMEZONE
TZID:Europe/London
X-LIC-LOCATION:Europe/London
BEGIN:DAYLIGHT
DTSTART:20250330T020000
TZOFFSETFROM:+0000
TZOFFSETTO:+0100
TZNAME:BST
END:DAYLIGHT
END:VTIMEZONE
END:VCALENDAR