BEGIN:VCALENDAR
VERSION:2.0
PRODID:-//wp-events-plugin.com//7.1.1//EN
TZID:Europe/London
X-WR-TIMEZONE:Europe/London
BEGIN:VEVENT
UID:21055@xyzbrighton.com
DTSTART;TZID=Europe/London:20230308T190000
DTEND;TZID=Europe/London:20230412T213000
DTSTAMP:20230126T194135Z
URL:https://xyzbrighton.com/events/part-2-musical-harold-advanced-performa
 nce-course/
SUMMARY:Part 2: Musical Harold – Advanced Performance Course
DESCRIPTION:The perfect mix of longform scenes and music. This longform mus
 ical course will have you diving into the Harold structure.\n\nPart 2 of t
 his course\, culminates in a performance showcase for friends and family a
 t the Lantern Theatre in Brighton.\n\nThe basis of much longform improvisa
 tion\, the ‘Harold’ is a 20-30 minute improvisation format composed of
  scenes and ‘games’ created fresh each time it is played. With its dis
 tinctive three-part structure\, it gives a sense of coherence and unity to
  a show\, but it is also flexible enough to change with the team\, the nig
 ht and content. In this course in particular\, we will use musical improvi
 sation to teach the Harold\, so no previous knowledge of the Harold is nec
 essary. However\, this course is also suitable for players who do know the
  format and want to enrich its joys with music.\n\nSyllabus Includes:\n\n 
 	Musical openings and group games\n\n\n 	Creating a musical language and w
 orld without telling a linear story\n\n\n 	Using real-life monologues and 
 conversations for lyrical content\n\n\n 	Following Harold beats with thema
 tic song choices\n\nTo join us for Part Two\, Part One of Musical Harold d
 oes not have to be completed if you have experience with both musical Impr
 ovisation and longform improvisation and/or improvised scene work. if you
 ’re unsure\, pop us an email at mayday@themaydays.co.uk.\n\nParticipants
 : Min. 8\, Max. 16\n\n“The feeling of elation we all had defies descript
 ion!”\n\nBook now!\nIf we have to cancel the event due to low numbers\, 
 we will do this with 24 hours notice (and you will receive a warning 48 ho
 urs before the course if this looks likely).\n\nWhen: Wednesday nights fo
 r 6-weeks\, from 8th March to 5th April\, 7-9.30 pm each week\, and culmin
 ating in a performance showcase for friends and family on week 6\, Wednesd
 ay 12th April \, show from 7.30 pm\, Lantern Theatre in Brighton.\n\nWhere
 : BHASVIC Brighton\, 205 Dyke Rd\, Brighton &amp\; Hove BN3 6EG\n\nThis c
 ourse has two Maydays facilitators and so is slightly higher in cost than 
 our other 2.5-hour 6-week courses.\n\nWe offer a free place on each of our
  courses as part of our Diversity Scholarship\, info here.\n\n\nIf financ
 ial hardships are an issue\, we are happy to offer student payment plans\,
  please don’t hesitate to get in touch with us directly at mayday@themay
 days.co.uk\n\nImprov facilitators: Heather Urquhart &amp\; Joe Samuel
ATTACH;FMTTYPE=image/jpeg:https://xyzbrighton.com/wp-content/uploads/2023/
 01/Screenshot-2023-01-25-at-18.35.42.png
CATEGORIES:Classes,Comedy,Performance,Theatre,Workshops
LOCATION:BHASVIC COLLEGE\, 205 Dyke Road\, Brighton and Hove\, England\, BN
 3 6EG\, United Kingdom
GEO:50.834066;-0.151234
X-APPLE-STRUCTURED-LOCATION;VALUE=URI;X-ADDRESS=205 Dyke Road\, Brighton an
 d Hove\, England\, BN3 6EG\, United Kingdom;X-APPLE-RADIUS=100;X-TITLE=BHA
 SVIC COLLEGE:geo:50.834066,-0.151234
END:VEVENT
BEGIN:VTIMEZONE
TZID:Europe/London
X-LIC-LOCATION:Europe/London
BEGIN:STANDARD
DTSTART:20221030T010000
TZOFFSETFROM:+0100
TZOFFSETTO:+0000
TZNAME:GMT
END:STANDARD
BEGIN:DAYLIGHT
DTSTART:20230326T020000
TZOFFSETFROM:+0000
TZOFFSETTO:+0100
TZNAME:BST
END:DAYLIGHT
END:VTIMEZONE
END:VCALENDAR