BEGIN:VCALENDAR
VERSION:2.0
PRODID:-//wp-events-plugin.com//7.1.1//EN
TZID:Europe/London
X-WR-TIMEZONE:Europe/London
BEGIN:VEVENT
UID:22129@xyzbrighton.com
DTSTART;TZID=Europe/London:20230802T180000
DTEND;TZID=Europe/London:20230803T200000
DTSTAMP:20230726T112833Z
URL:https://xyzbrighton.com/events/panel-discussion-helen-cammock-lucy-day
 -ben-roberts-and-anny-shaw-phoenix-art-space/
SUMMARY:Panel Discussion: Helen Cammock\, Lucy Day\, Ben Roberts and Anny S
 haw @ Phoenix Art Space
DESCRIPTION:On the occasion of Helen Cammock’s takeover of multiple bill
 boards in Brighton from 3-6 August as part of All About Love\, you are inv
 ited to join the artist in conversation with former director of Brighton C
 entre for Contemporary Art (Brighton CCA)\, Ben Roberts\, as well as execu
 tive director of Phoenix Art Space Lucy Day\, moderated by author and The
  Art Newspaper journalist Anny Shaw.Originally planned to coincide with t
 he opening of a major outdoor commission by Cammock for the recently close
 d Brighton CCA\, the deepest crease in the folds of stone and the sweet t
 aste of salt (2023) by Helen Cammock is a newly commissioned series of 
 work that has morphed from an ode to Brighton and its many folds\, into a 
 plea and a challenge to its institutions to support and nurture the contem
 porary visual arts in a more structured\, sustained and existential way.Th
 is launch event is an opportunity to platform vital conversations about wh
 at it means to value art - as a practice and as a cultural context. Bringi
 ng together voices from Brighton’s arts scene\, the event will explore t
 he importance of preserving and nurturing arts education\, looking at what
  changes are necessary to create a more hopeful future for artists and the
  wider art ecosystem in Brighton and beyond.This event is part of ‘All 
 About Love’ commissioned by BUILDHOLLYWOOD in five UK cities this yea
 r and is curated by Zarina Rossheart. Using cultural critic bell hooks’ 
 seminal work of the same name as a starting point\, this project was initi
 ated with the hope to inspire audiences to create a better future together
 .‘All About Love’ is commissioned as part of BUILDHOLLYWOOD's Your Spa
 ce Or Mine\, an ongoing project that has provided artists and creatives a 
 unique platform to bring their work to the streets of the UK for more than
  a decade.This event is kindly hosted by Phoenix Art Space. Phoenix Art S
 pace is a dynamic\, inclusive arts organisation located in the centre of B
 righton and established as a charity in 1995. Their mission is to support 
 a diverse range of artists’ practice\, providing affordable studio space
 \, and to be a centre for artistic activity\, bringing together profession
 al artists and the public in a setting that encourages creativity\, collab
 oration and exchange. For more information\, accessibility and how to get 
 there\, please visit www.phoenixbrighton.org
ATTACH;FMTTYPE=image/jpeg:https://xyzbrighton.com/wp-content/uploads/2023/
 07/Helen_Cammock_Billboards-Brighton_48Sheet1.jpeg
CATEGORIES:Arts
LOCATION:Phoenix Brighton\, 10-14 Waterloo Place\,\, Brighton\, East Sussex
 \, BN2 9NB\, United Kingdom
GEO:50.82865;-0.134347
X-APPLE-STRUCTURED-LOCATION;VALUE=URI;X-ADDRESS=10-14 Waterloo Place\,\, Br
 ighton\, East Sussex\, BN2 9NB\, United Kingdom;X-APPLE-RADIUS=100;X-TITLE
 =Phoenix Brighton:geo:50.82865,-0.134347
END:VEVENT
BEGIN:VTIMEZONE
TZID:Europe/London
X-LIC-LOCATION:Europe/London
BEGIN:DAYLIGHT
DTSTART:20230326T020000
TZOFFSETFROM:+0000
TZOFFSETTO:+0100
TZNAME:BST
END:DAYLIGHT
END:VTIMEZONE
END:VCALENDAR