BEGIN:VCALENDAR
VERSION:2.0
PRODID:-//wp-events-plugin.com//7.1.1//EN
TZID:Europe/London
X-WR-TIMEZONE:Europe/London
BEGIN:VEVENT
UID:22605@xyzbrighton.com
DTSTART;TZID=Europe/London;VALUE=DATE:20240311
DTEND;TZID=Europe/London;VALUE=DATE:20240318
DTSTAMP:20240304T183441Z
URL:https://xyzbrighton.com/events/oska-bright-film-festival-march-2024/
SUMMARY:Oska Bright Film Festival - March 2024
DESCRIPTION:\nOska Bright Film Festival is the world's biggest film festiva
 l showcasing bold\, brilliant and boundary-breaking stories from learning 
 disabled and autistic filmmakers from across the globe.\n\n\n\nJoin in on 
 our week-long celebration of talent from 11-17 March at various hotspots i
 n Brighton\, Sussex and across the UK.\n\n\n\nFind out more at oskabright
 .org\n
ATTACH;FMTTYPE=image/jpeg:https://xyzbrighton.com/wp-content/uploads/2024/
 02/OBFF-Landscape.jpeg
CATEGORIES:Cinema &amp; FIlm,Festivals
LOCATION:Brighton Dome\, Church Street\, Brighton and Hove\, England\, BN1 
 1UE\, United Kingdom
GEO:50.823703;-0.138083
X-APPLE-STRUCTURED-LOCATION;VALUE=URI;X-ADDRESS=Church Street\, Brighton an
 d Hove\, England\, BN1 1UE\, United Kingdom;X-APPLE-RADIUS=100;X-TITLE=Bri
 ghton Dome:geo:50.823703,-0.138083
END:VEVENT
BEGIN:VTIMEZONE
TZID:Europe/London
X-LIC-LOCATION:Europe/London
BEGIN:STANDARD
DTSTART:20231029T010000
TZOFFSETFROM:+0100
TZOFFSETTO:+0000
TZNAME:GMT
END:STANDARD
END:VTIMEZONE
END:VCALENDAR