BEGIN:VCALENDAR
VERSION:2.0
PRODID:-//wp-events-plugin.com//7.1.1//EN
TZID:Europe/London
X-WR-TIMEZONE:Europe/London
BEGIN:VEVENT
UID:20380@xyzbrighton.com
DTSTART:20220902T220000Z
DTEND:20220903T020000Z
DTSTAMP:20220828T175929Z
URL:https://xyzbrighton.com/events/online-dance-party-free-on-zoom/
SUMMARY:* ONLINE DANCE PARTY * FREE on ZOOM!
DESCRIPTION:**THEMES** Music of the Millennium (Top Hits of Today and the L
 ast 22 Years) 90's\, 80's\, 70's\, 60's\, 50's\, Disco\, Reggae\, Latin &a
 mp\; Afrobeats\n\n\n\nONLINE\nDANCE PARTY\n\nFRIDAYS &amp\; SATURDAYS\n\n1
 0 PM to 2 AM EST\n\nFREE ~ ON ZOOM!\n\nZOOM LINK: Click this link on the n
 ight of the event to join us at the party!\n\nThis is an inclusive party. 
 Everyone is welcome and made to feel so. 🌈 💚\n\n\n\n\n\nDo you want 
 to party\, but don't really feel like going out? Tonight come to a fabulou
 s Online Nightclub where the VIP section is always reserved just for YOU. 
 Unlimited drinks are on the house\, there's no cover charge and you don't 
 have to pay for parking\, cabs\, or baby sitters.\n\nWear whatever you're 
 most comfortable in\, dress casual and chill or dress to party! If you don
 't want to dance\, then just come listen to the music and chat with new fr
 iends.\n\n\n\n\n\n*SPECIAL THEME NIGHTS*\n\nMusic of the Millennium (Top H
 its of Today and the Last 22 Years)\n\n90's Party\n\n80's Party\n\n60's &a
 mp\; 70's Night\n\n50's &amp\; 60's Night\n\nDisco\n\nDancehall Reggae\, L
 atin Music &amp\; Afrobeats\n\nI will also be taking requests. Do you want
  to hear a song that everyone will enjoy? Just let me know and I'll put it
  on for us.\n\nI look forward to partying with all of you soon!\n\nCynthia
  🎵\n\n-----------------------\n\nPayPal &amp\; E-Transfer: cynthiatoron
 to@yahoo.com\n\n(This event is free! There is absolutely no obligation to 
 tip\, but some of our members have asked me to include this option. Thank 
 you.)\n\n\n\nCheck out all of our events.\n\n\n\n\n*60's &amp\; 70's Music
 * Online Dance Party - Free on Zoom\nSaturday\, September 3 ~ 10 pm to 2 a
 m EST\n\n\n\n\n\n*Music of the Millennium* Top Hits of Today and the Last 
 22 Years - Online Dance Party (Free on Zoom)\nFriday\, September 2 ~ 10pm 
 to 2am EST\n\n\n\n\n\n*80's Music* Online Dance Party - Free on Zoom\nFrid
 ay\, September 9 ~ 10 pm to 2 am EST\n\n\n\n\n\n*90's Music* Online Dance 
 Party - Free on Zoom\nSaturday\, September 10 ~ 10 pm to 2 am EST\n\n\n\n\
 n\n*Funk\, Soul and Motown PLUS American Bandstand 50's\, 60's &amp\; 70's
 * Online Dance Party - Free on Zoom\nSaturday\, September 17 ~ 10 pm to 2 
 am EST\n\n\n\n\n\n*80's &amp\; 90's plus Disco* Online Dance Party - Free 
 on Zoom\nSaturday\, September 24 ~ 10 pm to 2 am EST\n\n\n\n\n\n*Dancehall
  Reggae\, Latin Music &amp\; Afrobeats PLUS other International Hits* Onli
 ne Dance Party - Free on Zoom\nFriday\, September 23 ~ 10 pm to 2 am EST\n
 \n\n\n\n
ATTACH;FMTTYPE=image/jpeg:https://xyzbrighton.com/wp-content/uploads/2022/
 08/93275_image.jpg
CATEGORIES:Free
LOCATION:https://us04web.zoom.us/j/3234009094?pwd=RkdBVTl3cnJ6VDRyeUs3cUlBV
 mJWUT09
END:VEVENT
END:VCALENDAR