BEGIN:VCALENDAR
VERSION:2.0
PRODID:-//wp-events-plugin.com//7.1.1//EN
TZID:Europe/London
X-WR-TIMEZONE:Europe/London
BEGIN:VEVENT
UID:2900@xyzbrighton.com
DTSTART;TZID=Europe/London:20190305T190000
DTEND;TZID=Europe/London:20190305T190000
DTSTAMP:20191122T030138Z
URL:https://xyzbrighton.com/events/nubya-garcia-presented-by-dictionary-pu
 dding-and-brighton-alt-jazz-fest/
SUMMARY:NUBYA GARCIA PRESENTED BY DICTIONARY PUDDING AND BRIGHTON ALT JAZZ 
 FEST
DESCRIPTION:Saxophonist Nubya Garcia is undoubtedly one of the leading forc
 es in the new wave of British afro-tinged jazz\, having taken the world by
  storm this year with her When We Are EP and appearing at Dimensions\, Fie
 ld Day\, Winter Jazzfest amongst other festivals.\n‘Her numinous tone is
  instantly recognisable\, as is the signature fusion of soul\, African\, C
 aribbean\, Latin and electronic styles that she has made her own’ The Q
 uietus\n&nbsp\;
ATTACH;FMTTYPE=image/jpeg:https://xyzbrighton.com/wp-content/uploads/2019/
 02/NUBYA-GARCIA-PRESENTED-BY-DICTIONARY-PUDDING-AND-BRIGHTON-ALT-JAZZ-FEST
 _Brighton.png
CATEGORIES:Live Music
LOCATION:\, \, 
X-APPLE-STRUCTURED-LOCATION;VALUE=URI;X-ADDRESS=\, ;X-APPLE-RADIUS=100;X-TI
 TLE=:geo:0,0
END:VEVENT
BEGIN:VTIMEZONE
TZID:Europe/London
X-LIC-LOCATION:Europe/London
BEGIN:STANDARD
DTSTART:20181028T010000
TZOFFSETFROM:+0100
TZOFFSETTO:+0000
TZNAME:GMT
END:STANDARD
END:VTIMEZONE
END:VCALENDAR