BEGIN:VCALENDAR
VERSION:2.0
PRODID:-//wp-events-plugin.com//7.1.1//EN
TZID:Europe/London
X-WR-TIMEZONE:Europe/London
BEGIN:VEVENT
UID:23618@xyzbrighton.com
DTSTART;TZID=Europe/London:20250920T200000
DTEND;TZID=Europe/London:20250921T230000
DTSTAMP:20250823T065906Z
URL:https://xyzbrighton.com/events/nu-tribe-funkadelic-future-disco/
SUMMARY:NU TRIBE - FUNKADELIC FUTURE DISCO! 
DESCRIPTION:\n\nA one night festival experience in the heart of Brighton\, 
 celebrating diversity in creativity\, community and culture!\n\n\n\n\nOn S
 aturday 20th September 2025 you are invited to celebrate life and co creat
 e magic and wonder at:NU TRIBE - FUNKADELIC FUTURE DISCO!\n\n\nA Funkadeli
 c Future Disco Fancy Dress Themed Party that will blow your mind\, heart a
 nd soul wide open!\nWith DJ sets and live performance's from the best loca
 l and UK Based Artists &amp\; MC's.\nTICKET LINK: https://fatso.ma/15T6\n
 \n\nROOM 1:\nDJ's:\nEMCO X SHANNY - HER STORY OF UK GARAGE\nKOSINE - HIS S
 TORY OF RAVE - 1988 - 1996\nRACH - REGGAE\, DUB &amp\; STEPPAS\nBENJI X IN
 KY - FUNK\, DISCO &amp\; 80'S\nLIVE:\nANANTA KERNEL - GOLDEN GATEWAY E.P L
 AUNCH\nCONSCIOUS RAPPER COMMUNITY SHOWCASE FEATURING:\nFLOWMADIC X KYRON M
 URRELL X LYRAN X MC WORDZ X\nMICHAEL DESOUZA X QUINTESSENCE\nROOM 2\nDJ'S 
 PLAYING FUNK\, SOUL\, DISCO\, 80's\, WORLD MUSIC &amp\; RAVE\nINKY / BENJI
  / BANDELERO / MORPHO MENDEZ &amp\; ULTRA VIOLET TENDENCY\nROOM 3\nCHILLOU
 T ZONE / COMEDY / KIRTAN / JAM SPACE\nW/ COMEDY FROM SLINKY LOVECHEST &amp
 \; JITEN PATEL\, KIRTAN WITH HALIDAR + CONSCIOUS CONVERSATIONS W/ THE QUAN
 TANIUM WORDSMITH\nPLUS:\nDECOR\nLIGHT AND LASER SHOW\nTAROT READINGS\nMASS
 AGE\nTHE NIGHT BEGINS WITH AN OPENING CEREMONY AT 8PM\n\n\nTICKETS AVAILAB
 LE NOW VIA FATSOMA: https://fatso.ma/15T6\n\n
ATTACH;FMTTYPE=image/jpeg:https://xyzbrighton.com/wp-content/uploads/2025/
 08/nu-tribe.jpg
CATEGORIES:DJ / Clubbing
LOCATION:One Under\, 75-79 East Street\, Brighton and Hove\, England\, BN1 
 1NF\, Brighton and Hove\, United Kingdom
GEO:50.819659;-0.138855
X-APPLE-STRUCTURED-LOCATION;VALUE=URI;X-ADDRESS=75-79 East Street\, Brighto
 n and Hove\, England\, BN1 1NF\, Brighton and Hove\, United Kingdom;X-APPL
 E-RADIUS=100;X-TITLE=One Under:geo:50.819659,-0.138855
END:VEVENT
BEGIN:VTIMEZONE
TZID:Europe/London
X-LIC-LOCATION:Europe/London
BEGIN:DAYLIGHT
DTSTART:20250330T020000
TZOFFSETFROM:+0000
TZOFFSETTO:+0100
TZNAME:BST
END:DAYLIGHT
END:VTIMEZONE
END:VCALENDAR