BEGIN:VCALENDAR
VERSION:2.0
PRODID:-//wp-events-plugin.com//7.1.1//EN
TZID:Europe/London
X-WR-TIMEZONE:Europe/London
BEGIN:VEVENT
UID:21233@xyzbrighton.com
DTSTART;TZID=Europe/London:20230217T190000
DTEND;TZID=Europe/London:20230217T220000
DTSTAMP:20230208T120658Z
URL:https://xyzbrighton.com/events/mogwai-brighton-dome-february-17th/
SUMMARY:Mogwai @ Brighton Dome February 17th
DESCRIPTION:Performing as part of a run of UK tour dates featuring tracks f
 rom Mogwai’s 2021 number one record\, As The Love Continues\, as well as
  classic Mogwai tracks from their innovative career.\n\nThe band will be a
 ccompanied on tour by Brainiac\, who have reformed 25 years after the trag
 ic death of their singer Timmy Taylor\, during which time they gathered cu
 lt-support from Trent Reznor\, The Flaming Lips and Mogwai themselves.\n\n
 Read our feature here.
ATTACH;FMTTYPE=image/jpeg:https://xyzbrighton.com/wp-content/uploads/2023/
 02/mogwai.jpg
CATEGORIES:Live Music
LOCATION:Brighton Dome and Concert Hall\, Church Street\, Brighton and Hove
 \, England\, BN1 1UE\, South East\, United Kingdom
GEO:50.823686;-0.138141
X-APPLE-STRUCTURED-LOCATION;VALUE=URI;X-ADDRESS=Church Street\, Brighton an
 d Hove\, England\, BN1 1UE\, South East\, United Kingdom;X-APPLE-RADIUS=10
 0;X-TITLE=Brighton Dome and Concert Hall:geo:50.823686,-0.138141
END:VEVENT
BEGIN:VTIMEZONE
TZID:Europe/London
X-LIC-LOCATION:Europe/London
BEGIN:STANDARD
DTSTART:20221030T010000
TZOFFSETFROM:+0100
TZOFFSETTO:+0000
TZNAME:GMT
END:STANDARD
END:VTIMEZONE
END:VCALENDAR