BEGIN:VCALENDAR
VERSION:2.0
PRODID:-//wp-events-plugin.com//7.1.1//EN
TZID:Europe/London
X-WR-TIMEZONE:Europe/London
BEGIN:VEVENT
UID:7061@xyzbrighton.com
DTSTART;TZID=Europe/London:20200306T190000
DTEND;TZID=Europe/London:20200306T190000
DTSTAMP:20200212T095701Z
URL:https://xyzbrighton.com/events/michael-ball-alfie-boe-2/
SUMMARY:Michael Ball &amp\; Alfie Boe
DESCRIPTION:\n\nThey’re back. The world’s ultimate musical duo\, Micha
 el Ball and Alfie Boe\, have missed each other\, and we have missed them
 . The dynamic duo announce their stellar UK 2020 ‘Back Together’ tour.
 \n\nBoth singers have been extremely busy\, with hugely successful solo al
 bums\, sell-out tours and both currently starring in Les Misérables in th
 e West End\, but it is the combination of these two arresting voices and p
 ersonalities which proves to be irresistible to countless fans across the 
 nation.\n\n\n
ATTACH;FMTTYPE=image/jpeg:https://xyzbrighton.com/wp-content/uploads/2020/
 02/Michael-Ball-Alfie-Boe_Brighton.jpg
CATEGORIES:Live Music
LOCATION:Brighton Centre\, Brighton centre\, Kings Road\,\, Brighton\, BN1 
 2GR\, United Kingdom
GEO:50.820984;-0.146551
X-APPLE-STRUCTURED-LOCATION;VALUE=URI;X-ADDRESS=Brighton centre\, Kings Roa
 d\,\, Brighton\, BN1 2GR\, United Kingdom;X-APPLE-RADIUS=100;X-TITLE=Brigh
 ton Centre:geo:50.820984,-0.146551
END:VEVENT
BEGIN:VTIMEZONE
TZID:Europe/London
X-LIC-LOCATION:Europe/London
BEGIN:STANDARD
DTSTART:20191027T010000
TZOFFSETFROM:+0100
TZOFFSETTO:+0000
TZNAME:GMT
END:STANDARD
END:VTIMEZONE
END:VCALENDAR