BEGIN:VCALENDAR
VERSION:2.0
PRODID:-//wp-events-plugin.com//7.1.1//EN
TZID:Europe/London
X-WR-TIMEZONE:Europe/London
BEGIN:VEVENT
UID:24537@xyzbrighton.com
DTSTART;TZID=Europe/London:20251011T090000
DTEND;TZID=Europe/London:20251012T170000
DTSTAMP:20250906T090354Z
URL:https://xyzbrighton.com/events/men-challenging-sexism-conference-2025-
 macs-2025/
SUMMARY:Men Challenging Sexism Conference 2025 - MACS 2025
DESCRIPTION:The Men Challenging Sexism Conference 2025 aims to bring men an
 d boys together to have conversations\, promote awareness\, and inspire me
 n to take action against sexism and misogyny.\n\nThis in-person event will
  consist of talks and workshops\, focussed on anti-sexism and pro-feminist
  issues. We invite men to take action to create a better world\, where men
  are more respectful\, responsible\, empathetic and safe.\n\nWe will speak
  about what we can do individually with regards to personal growth and wha
 t actions men &amp\; boys can take individually and collectively to suppor
 t women’s liberation / the radical feminist movement.\n\nWe have 10 spea
 kers confirmed covering a wide range of topics including: having construct
 ive conversations with boys and young men\, gay rights\, pornography\, sex
 ual violence in India and fairness in women’s sports.\n\nPlease check ou
 t our website / Eventbrite for the full lineup of speakers.\n\nOur pro-fem
 inist conference for men &amp\; boys is organised in solidarity and consul
 tation with FiLiA\, whose 2025 conference is taking place in Brighton the 
 same weekend.
ATTACH;FMTTYPE=image/jpeg:https://xyzbrighton.com/wp-content/uploads/2025/
 09/IMG_2899.jpeg
CATEGORIES:Community,Talks
LOCATION:Brighton Beach\, Madeira Drive\, Brighton\, England\, BN2 1TR\, Br
 ighton and Hove\, United Kingdom
GEO:50.819188;-0.133027
X-APPLE-STRUCTURED-LOCATION;VALUE=URI;X-ADDRESS=Madeira Drive\, Brighton\, 
 England\, BN2 1TR\, Brighton and Hove\, United Kingdom;X-APPLE-RADIUS=100;
 X-TITLE=Brighton Beach:geo:50.819188,-0.133027
END:VEVENT
BEGIN:VTIMEZONE
TZID:Europe/London
X-LIC-LOCATION:Europe/London
BEGIN:DAYLIGHT
DTSTART:20250330T020000
TZOFFSETFROM:+0000
TZOFFSETTO:+0100
TZNAME:BST
END:DAYLIGHT
END:VTIMEZONE
END:VCALENDAR