BEGIN:VCALENDAR
VERSION:2.0
PRODID:-//wp-events-plugin.com//7.1.1//EN
TZID:Europe/London
X-WR-TIMEZONE:Europe/London
BEGIN:VEVENT
UID:2912@xyzbrighton.com
DTSTART;TZID=Europe/London:20190301T200000
DTEND;TZID=Europe/London:20190302T200000
DTSTAMP:20191122T030139Z
URL:https://xyzbrighton.com/events/mark-thomas/
SUMMARY:MARK THOMAS
DESCRIPTION:Mark Thomas is 54\, the NHS is 70\, UK national average life ex
 pectancy is 84. If Mark makes it to 84 the NHS will be 100\, what will the
 y both look like?\nBased on a series of interviews with leading experts in
  and on the NHS and residencies in hospitals and surgeries\, Thomas workin
 g with director Nicolas Kent\, uses his own demise to explore the state we
 ’re in. What’s going right\, what’s going wrong and how does it get 
 better?\nSupported by the Wellcome Trust.\n“Thomas is a terrific perform
 er and raconteur… funny\, raw and angry”\nGuardian\n&nbsp\;
ATTACH;FMTTYPE=image/jpeg:https://xyzbrighton.com/wp-content/uploads/2019/
 02/MARK-THOMAS.jpg
CATEGORIES:Comedy
LOCATION:\, \, 
X-APPLE-STRUCTURED-LOCATION;VALUE=URI;X-ADDRESS=\, ;X-APPLE-RADIUS=100;X-TI
 TLE=:geo:0,0
END:VEVENT
BEGIN:VTIMEZONE
TZID:Europe/London
X-LIC-LOCATION:Europe/London
BEGIN:STANDARD
DTSTART:20181028T010000
TZOFFSETFROM:+0100
TZOFFSETTO:+0000
TZNAME:GMT
END:STANDARD
END:VTIMEZONE
END:VCALENDAR