BEGIN:VCALENDAR
VERSION:2.0
PRODID:-//wp-events-plugin.com//7.1.1//EN
TZID:Europe/London
X-WR-TIMEZONE:Europe/London
BEGIN:VEVENT
UID:23616@xyzbrighton.com
DTSTART;TZID=Europe/London:20250822T203000
DTEND;TZID=Europe/London:20250822T235900
DTSTAMP:20250820T100102Z
URL:https://xyzbrighton.com/events/madonna-vs-lady-gaga/
SUMMARY:Madonna Vs Lady Gaga
DESCRIPTION:Put your paws up & strike a pose!Age Limit 16+ Anyone under 18 
 MUST be accompanied by an adult.Get ready for a night of pure pop royalty 
 at Ironworks Studios as we celebrate two of the most iconic women in music
  history: Madonna and Lady Gaga.Expect live vocals\, legendary looks\, and
  back-to-back hits from both queens of reinvention. Test your fandom in ou
 r Madonna vs Gaga quiz\, then keep the party going with our after-party in
  the bar\, playing all the bangers\, deep cuts\, and dancefloor fillers.Wh
 ether you're Team Madge or Team Mother Monster\, this is one fierce night 
 you won’t want to miss. Dress to impress – and strike a pose!By purcha
 sing a ticket you are agreeing to the venue's Terms &amp\; ConditionsSEATI
 NG/ACCESSIBILITYAll General Admission seating is unreservedThere are a lim
 ited number of tables for 2 which are situated at the frontIf you have any
  access requirements or are eligible for a free carer/PA ticket please con
 tact us via our access page
ATTACH;FMTTYPE=image/jpeg:https://xyzbrighton.com/wp-content/uploads/2025/
 08/101924_image.jpg
CATEGORIES:DJ / Clubbing
LOCATION:Ironworks Studios\, 30 Cheapside\, Brighton\, BN1 4GD\, Brighton\,
  England\, BN1 4GD\, United Kingdom
GEO:50.829336;-0.138497
X-APPLE-STRUCTURED-LOCATION;VALUE=URI;X-ADDRESS=30 Cheapside\, Brighton\, B
 N1 4GD\, Brighton\, England\, BN1 4GD\, United Kingdom;X-APPLE-RADIUS=100;
 X-TITLE=Ironworks Studios:geo:50.829336,-0.138497
END:VEVENT
BEGIN:VTIMEZONE
TZID:Europe/London
X-LIC-LOCATION:Europe/London
BEGIN:DAYLIGHT
DTSTART:20250330T020000
TZOFFSETFROM:+0000
TZOFFSETTO:+0100
TZNAME:BST
END:DAYLIGHT
END:VTIMEZONE
END:VCALENDAR