BEGIN:VCALENDAR
VERSION:2.0
PRODID:-//wp-events-plugin.com//7.1.1//EN
TZID:Europe/London
X-WR-TIMEZONE:Europe/London
BEGIN:VEVENT
UID:24758@xyzbrighton.com
DTSTART;TZID=Europe/London:20251030T190000
DTEND;TZID=Europe/London:20251030T203000
DTSTAMP:20251007T113455Z
URL:https://xyzbrighton.com/events/live-acoustic-music-by-ameera-at-roti-k
 ing/
SUMMARY:Live acoustic music by Ameera at Roti King!
DESCRIPTION:Come enjoy live acoustic music by Ameera at Roti King - it's go
 nna be a chill vibe with good tunes and delicious food!Join us for a cozy 
 evening of live acoustic music by Ameera at Roti King Brighton! Sit back\,
  relax\, and enjoy our soulful halloween set alongside our delicious Malay
 sian food.19:00 -20:30Free eventEmail brighton@rotiking.com with any quest
 ions! Booking required
ATTACH;FMTTYPE=image/jpeg:https://xyzbrighton.com/wp-content/uploads/2025/
 10/103743_image.jpg
CATEGORIES:Halloween
LOCATION:Roti King Brighton\, 57 Ship Street\, Brighton and Hove\, BN1 1AF\
 , Brighton and Hove\, England\, BN1 1AF\, United Kingdom
GEO:50.822096;-0.141328
X-APPLE-STRUCTURED-LOCATION;VALUE=URI;X-ADDRESS=57 Ship Street\, Brighton a
 nd Hove\, BN1 1AF\, Brighton and Hove\, England\, BN1 1AF\, United Kingdom
 ;X-APPLE-RADIUS=100;X-TITLE=Roti King Brighton:geo:50.822096,-0.141328
END:VEVENT
BEGIN:VTIMEZONE
TZID:Europe/London
X-LIC-LOCATION:Europe/London
BEGIN:STANDARD
DTSTART:20251026T010000
TZOFFSETFROM:+0100
TZOFFSETTO:+0000
TZNAME:GMT
END:STANDARD
END:VTIMEZONE
END:VCALENDAR