BEGIN:VCALENDAR
VERSION:2.0
PRODID:-//wp-events-plugin.com//7.1.1//EN
TZID:Europe/London
X-WR-TIMEZONE:Europe/London
BEGIN:VEVENT
UID:24903@xyzbrighton.com
DTSTART;TZID=Europe/London:20260320T230000
DTEND;TZID=Europe/London:20260321T040000
DTSTAMP:20260116T113757Z
URL:https://xyzbrighton.com/events/latino-fest-brighton-march-2026/
SUMMARY:Latino Fest (Brighton) March 2026
DESCRIPTION:Latino Fest is coming back to Brighton this March for our first
  party of 2026!Join us for a night of Reggaeton\, Salsa\, Bachata\, Baile 
 Funk and Latin Trap music across two rooms with 600+ Latin music lovers un
 der one roof.Room 1 - Reggaeton\, Dembow\, Latin Pop &amp\; Baile FunkExpe
 ct to hear: Daddy Yankee / Maluma / Feid / Peso Pluma / Cris MJ / J Blavin
  / Ryan Castro / Karol G / Enrique / J Alvarez / Bad Bunny / Blessd / Nick
 y Jam / Farruko / Don Omar / Rauw Alejandro / Rosalia / Anitta/ Wisin y Ya
 ndel / Ludmila / Arcangel / Zion y Lenox / Ivy Queen / De La Ghetto / MC K
 evinho / Ozuna / Calle 13 / MC G15 / Gente De Zona / MC João / Becky G / 
 Natti Natasha / Bryant Myers / Anuel AARoom 2 - Bachata\, Salsa &amp\; Mer
 engue (11pm-2am)Expect to hear: Carlos Vives / Marc Anthony / Romeo Santos
  / Prince Royce / Aventura / Xtreme / Antony Santos / Héctor Lavoe / Celi
 a Cruz / Frankie Ruiz / Gilberto Santa RosaWe will be running drink offers
  throughout the night\, Corona / Amigos - £3 each &amp\; 2 for 1 Tequila 
 Shots!!!♥ WANT FREE ENTRY? ♥If your birthday is between March 10th and
  30th then you get free entry! All you need to do to claim is email latino
 festuk@gmail.com with the subject ‘Latino Fest Brighton’*DRINK DEALS*C
 orona / Amigos - £3 each2 for 1 Tequila Shots (Jose Cuervo)Like our page 
 to stay up to date with our Latin events.Concorde 2Strictly 18+ | No ID\, 
 No Entry
ATTACH;FMTTYPE=image/jpeg:https://xyzbrighton.com/wp-content/uploads/2026/
 01/104408_image.jpg
CATEGORIES:Festivals
LOCATION:Concorde 2\, 286A Madeira Drive\, Brighton\, BN2 1EN\, Brighton\, 
 England\, BN2 1EN\, United Kingdom
GEO:50.817278;-0.122525
X-APPLE-STRUCTURED-LOCATION;VALUE=URI;X-ADDRESS=286A Madeira Drive\, Bright
 on\, BN2 1EN\, Brighton\, England\, BN2 1EN\, United Kingdom;X-APPLE-RADIU
 S=100;X-TITLE=Concorde 2:geo:50.817278,-0.122525
END:VEVENT
BEGIN:VTIMEZONE
TZID:Europe/London
X-LIC-LOCATION:Europe/London
BEGIN:STANDARD
DTSTART:20251026T010000
TZOFFSETFROM:+0100
TZOFFSETTO:+0000
TZNAME:GMT
END:STANDARD
END:VTIMEZONE
END:VCALENDAR