BEGIN:VCALENDAR
VERSION:2.0
PRODID:-//wp-events-plugin.com//7.1.1//EN
TZID:Europe/London
X-WR-TIMEZONE:Europe/London
BEGIN:VEVENT
UID:21955@xyzbrighton.com
DTSTART;TZID=Europe/London:20230528T160000
DTEND;TZID=Europe/London:20230528T170000
DTSTAMP:20230515T083312Z
URL:https://xyzbrighton.com/events/kids-can-heckle-comedy-show-at-brighton
 -fringe-for-ages-4-11-the-walrus-2023-05-28/
SUMMARY:Kids Can Heckle! Comedy Show at Brighton Fringe for ages 4-11 @ The
  Walrus
DESCRIPTION:Fun for the whole family\, but especially fun for the little on
 es! \n\nTop UK stand-up Ollie Horn ("Ollie Horn is a gifted storyteller" W
 ee Review) attempts to tell the same clean comedy routines that he does in
  proper comedy clubs around the world. The only thing that can stop him is
  the imagination of the kids in the room\, who at any point are allowed\, 
 no\, encouraged to jump in\, share their ideas\, and be as silly as possib
 le!\n\n"The perfect way to introduce your kids to the world of stand-up" 
 ★★★★—Kids In Adelaide (Adelaide Fringe 2023)\n\nA chaotic\, inte
 ractive\, wholesome\, and hilarious hour of comedy that provides genuine e
 ntertainment for everyone in the room. This isn't a kids show - it's a sta
 nd-up show that kids control!\n\n"Fantastic show for both young and old. W
 ould definitely recommend!"— Nadine W\n\n"Great show and Ollie handled t
 he kids so well."—Alexander S\n\n"Best kid-friendly act we've been to"
 — Kellie L\n\nDon't miss one of just three special performances of this 
 show at this year's Brighton Fringe!
ATTACH;FMTTYPE=image/jpeg:https://xyzbrighton.com/wp-content/uploads/2023/
 05/https-cdn.evbuc_.com-images-496930479-1509765311933-1-original.20230420
 -062816-1.jpeg
CATEGORIES:Arts,Comedy,Kids
LOCATION:The Walrus Brighton\, 10 Ship Street\, Brighton and Hove\, England
 \, BN1 1AD\, South East\, United Kingdom
GEO:50.821691;-0.142167
X-APPLE-STRUCTURED-LOCATION;VALUE=URI;X-ADDRESS=10 Ship Street\, Brighton a
 nd Hove\, England\, BN1 1AD\, South East\, United Kingdom;X-APPLE-RADIUS=1
 00;X-TITLE=The Walrus Brighton:geo:50.821691,-0.142167
END:VEVENT
BEGIN:VTIMEZONE
TZID:Europe/London
X-LIC-LOCATION:Europe/London
BEGIN:DAYLIGHT
DTSTART:20230326T020000
TZOFFSETFROM:+0000
TZOFFSETTO:+0100
TZNAME:BST
END:DAYLIGHT
END:VTIMEZONE
END:VCALENDAR