BEGIN:VCALENDAR
VERSION:2.0
PRODID:-//wp-events-plugin.com//7.1.1//EN
TZID:Europe/London
X-WR-TIMEZONE:Europe/London
BEGIN:VEVENT
UID:18483@xyzbrighton.com
DTSTART;TZID=Europe/London:20210917T190000
DTEND;TZID=Europe/London:20210917T220000
DTSTAMP:20210824T150136Z
URL:https://xyzbrighton.com/events/joy-presents-dj-shadow-plus-support-at-
 brighton-dome/
SUMMARY:JOY Presents: DJ Shadow plus support at Brighton Dome
DESCRIPTION:Best known for debut album "Endtroducing"\, "The Mountain Will 
 Fall"and now "Our Pathetic Age - DJ Shadow is back in Brighton!\n\nHave a 
 little look at Weightless from the latest album \n\nhttps://www.youtube.c
 om/watch?v=_DGQm0inM-M&amp\;list=RD_DGQm0inM-M&amp\;start_radio=1\n\nAnd h
 ere's a little reminder about Endtroducing....\n\nhttps://www.youtube.com/
 watch?v=FGQjrBuW-Xg&amp\;list=PLZRoUyPgsGJyJlVqAVP0PxGpnIVu6_tzU\n\n&nbsp\
 ;
ATTACH;FMTTYPE=image/jpeg:https://xyzbrighton.com/wp-content/uploads/2021/
 08/DJ-SHADOW.jpg
CATEGORIES:Live Music
LOCATION:Brighton Dome and Concert Hall\, Church Street\, Brighton and Hove
 \, England\, BN1 1UE\, South East\, United Kingdom
GEO:50.823686;-0.138141
X-APPLE-STRUCTURED-LOCATION;VALUE=URI;X-ADDRESS=Church Street\, Brighton an
 d Hove\, England\, BN1 1UE\, South East\, United Kingdom;X-APPLE-RADIUS=10
 0;X-TITLE=Brighton Dome and Concert Hall:geo:50.823686,-0.138141
END:VEVENT
BEGIN:VTIMEZONE
TZID:Europe/London
X-LIC-LOCATION:Europe/London
BEGIN:DAYLIGHT
DTSTART:20210328T020000
TZOFFSETFROM:+0000
TZOFFSETTO:+0100
TZNAME:BST
END:DAYLIGHT
END:VTIMEZONE
END:VCALENDAR