BEGIN:VCALENDAR
VERSION:2.0
PRODID:-//wp-events-plugin.com//7.1.1//EN
TZID:Europe/London
X-WR-TIMEZONE:Europe/London
BEGIN:VEVENT
UID:18590@xyzbrighton.com
DTSTART;TZID=Europe/London:20210925T193000
DTEND;TZID=Europe/London:20210925T213000
DTSTAMP:20210922T190622Z
URL:https://xyzbrighton.com/events/josh-widdicombe-watching-neighbours-twi
 ce-a-day-book-tour/
SUMMARY:Josh Widdicombe: Watching Neighbours Twice a Day (Book Tour)
DESCRIPTION:\n\nYou're used to seeing him in stand-up\, now see one of the 
 most respected comedians on the UK scene at this book event as Josh celebr
 ates the release of his first memoir "Watching Neighbours Twice a Day… H
 ow ’90s TV (Almost) Prepared Me For Life" with a talk and Q&amp\;A at Th
 e Old Market.\nLive in conversation with a special guest\, hear Josh talk 
 of a strange rural childhood\, one he only realised was weird when he left
  home and started telling people about it\, and then there'll be a book si
 gning after the show\, with books available to purchase on the night.\nGua
 ranteed to be amusing and engaging whatever the setting\, don't miss this 
 chance to catch Widdicombe live in Brighton.\n\n\n\n
ATTACH;FMTTYPE=image/jpeg:https://xyzbrighton.com/wp-content/uploads/2021/
 08/JOSH-W-BOOK.jpg
CATEGORIES:Literature,Talks
LOCATION:The Old Market\, 11a Upper Market Street\, Hove\, east Sussex\, BN
 3 1AS\, United Kingdom
GEO:50.824778;-0.15738
X-APPLE-STRUCTURED-LOCATION;VALUE=URI;X-ADDRESS=11a Upper Market Street\, H
 ove\, east Sussex\, BN3 1AS\, United Kingdom;X-APPLE-RADIUS=100;X-TITLE=Th
 e Old Market:geo:50.824778,-0.15738
END:VEVENT
BEGIN:VTIMEZONE
TZID:Europe/London
X-LIC-LOCATION:Europe/London
BEGIN:DAYLIGHT
DTSTART:20210328T020000
TZOFFSETFROM:+0000
TZOFFSETTO:+0100
TZNAME:BST
END:DAYLIGHT
END:VTIMEZONE
END:VCALENDAR