BEGIN:VCALENDAR
VERSION:2.0
PRODID:-//wp-events-plugin.com//7.1.1//EN
TZID:Europe/London
X-WR-TIMEZONE:Europe/London
BEGIN:VEVENT
UID:22295@xyzbrighton.com
DTSTART;TZID=Europe/London:20231021T150000
DTEND;TZID=Europe/London:20231207T200000
DTSTAMP:20231004T115217Z
URL:https://xyzbrighton.com/events/jesmonite-workshop-2/
SUMMARY:Jesmonite Workshop
DESCRIPTION:Join us at a creative session in Brighton and learn how to work
  with Jesmonite\, a natural resin\, while creating unique pieces and home 
 decorJesmonite WorkshopJoin us for an exciting hands-on Jesmonite Workshop
  where you can unleash your creativity! This in-person event will take pla
 ce on at Dukes Lane Unit 24\, Terra Goodies Studio\, Brighton and Hove\, B
 N1 1AD. Get ready to dive into the world of Jesmonite\, a versatile materi
 al used in creating stunning art pieces and functional objects.Dates:Satur
 day 21st October 2023\,15:00 - 17:00Sunday 12th November 2023\, 11:00 - 13
 :00Thursday 7th December 2023\, 18:00 - 20:00During this workshop\, you'll
  learn various techniques and explore the endless possibilities of Jesmoni
 te. Local artist and Jesmonite fanactic\, Ivan\, will guide you through th
 e process\, teaching you how to mix\, pour\, and mold this unique material
  as well as different techniques to work with it and make it your own. Whe
 ther you're a beginner or have some experience\, this workshop is suitable
  for all skill levels.Discover the joy of creating your own Jesmonite mast
 erpiece! Bring your ideas and let your imagination run wild. This workshop
  offers a fantastic opportunity to connect with fellow artists\, share ide
 as\, and learn from each other so book with friends or join us solo. Don't
  miss out on this exciting event!Remember\, there will be hot drinks and b
 everages included with your ticket as well as some snacks to keep the crea
 tive energy flowing. If you wish you complete your experience with a glass
  of bubbles\, please make sure you add the Bubbles Add-On at check out!
ATTACH;FMTTYPE=image/jpeg:https://xyzbrighton.com/wp-content/uploads/2023/
 10/97466_image.png
CATEGORIES:Arts
LOCATION:Duke's Lanes\, Unit 24\, Terra Goodies Studio\, Dukes Lane Unit 24
 \, Terra Goodies Studio\, Brighton and Hove\, BN1 1AD\, Brighton and Hove\
 , England\, BN1 1AD\, United Kingdom
GEO:50.822242;-0.141981
X-APPLE-STRUCTURED-LOCATION;VALUE=URI;X-ADDRESS=Dukes Lane Unit 24\, Terra 
 Goodies Studio\, Brighton and Hove\, BN1 1AD\, Brighton and Hove\, England
 \, BN1 1AD\, United Kingdom;X-APPLE-RADIUS=100;X-TITLE=Duke's Lanes\, Unit
  24\, Terra Goodies Studio:geo:50.822242,-0.141981
END:VEVENT
BEGIN:VTIMEZONE
TZID:Europe/London
X-LIC-LOCATION:Europe/London
BEGIN:DAYLIGHT
DTSTART:20230326T020000
TZOFFSETFROM:+0000
TZOFFSETTO:+0100
TZNAME:BST
END:DAYLIGHT
BEGIN:STANDARD
DTSTART:20231029T010000
TZOFFSETFROM:+0100
TZOFFSETTO:+0000
TZNAME:GMT
END:STANDARD
END:VTIMEZONE
END:VCALENDAR