BEGIN:VCALENDAR
VERSION:2.0
PRODID:-//wp-events-plugin.com//7.1.1//EN
TZID:Europe/London
X-WR-TIMEZONE:Europe/London
BEGIN:VEVENT
UID:23542@xyzbrighton.com
DTSTART;TZID=Europe/London:20250824T100000
DTEND;TZID=Europe/London:20250824T170000
DTSTAMP:20250716T071533Z
URL:https://xyzbrighton.com/events/introduction-to-acrylic-painting/
SUMMARY:Introduction to Acrylic Painting
DESCRIPTION:Increase your confidence in using acrylic paint\, and learn new
  approaches to inspire your painting at this one day workshop!Under the su
 pportive guidance of artist Denise Harrison\, this one-day crash-course wi
 ll help you develop your acrylic painting skills.  The workshop also cove
 rs the formal elements of painting and Denise will help you to develop you
 r use of colour\, tone and composition in your paintings. This class is su
 itable complete beginners as well as more experienced artists who want to 
 become more confident working in acrylics.   What to Expect This one-d
 ay workshop runs from 10am-5pm with a 1 hour break at 1pm-2pm and addition
 al shorter tea breaks.  During the day Denise will demonstrate techniques
  and also will tutor each person throughout the day as she moves around th
 e class. Students will be guided to create several small painted studies a
 nd a larger final painting.   What you need to bring  Most materials 
 will be provided\, including acrylic paint\, brushes\, additional acrylic 
 painting paper and palettes. If you have any questions\, please contact in
 fo@draw-brighton.co.uk  A selection of images that inspire you - this co
 uld photographs or other artists’ paintings. They could be landscapes\, 
 figures\, faces\, abstract artworks or still life.   A optional sketchb
 ook for note taking An apron and appropriate clothing to be painting in 
  A folder to transport dry work home in  Getting to the studio You may
  arrive at 9:45am onwards. Approach New England House from the New England
  Street side of the building and walk up to the locked blue double doors n
 ext to the sign for the ‘Building Manager’s Office’. Wait to be let 
 in or call the number on the door for entry - the studio is on level 5\, U
 nit 1 South\, just knock and walk in. There is parking at London Road car 
 park\, Elder Place &amp\; Trafalgar St car parks\; Brighton station is a 5
  minute walk from the studio.    Discounts The discounted rate is ava
 ilable for anybody on low income\, students or Patreon supporters. Sign up
  to the Draw Patreon from just £3.60 per month to get access to the disco
 unt\, online life drawing course\, live online classes and personal feedba
 ck from our tutors. Whether you are a Patreon supporter or not\, you can p
 ost your drawings on the Draw community Facebook group and you are welco
 me to tag us with @draw_brighton and #drawbrighton on Instagram.   Safe
 ty &amp\; accessibility For the wellbeing of everybody at the class pleas
 e don’t come to the class if you are ill with contagious symptoms.  If 
 you have any accessibility needs\, please do let us know beforehand and we
  will do everything we can to make sure you can enjoy the life classes her
 e. The building has a wheelchair ramp at the North side of the New England
  Street entrance and lifts up to level 5 with gender-neutral toilets &amp\
 ; accessible toilets on floors 4 &amp\; 6 accessed by lift. We keep the st
 udio a safe environment by providing: Monitored ventilation (aiming for &
 lt\;900ppm CO2) Air purification with HEPA filters Sick pay for our free
 lance life models If you have covid\, flu or bad cold symptoms we ask you
  not to attend - you will receive a refund as well as our appreciation! 
  Cancellations  Bookings are non-refundable. If you are unwell with a c
 ontagious illness you may not attend the class - you can request a refund 
 here on Eventbrite and we can issue a full refund\, minus Eventbrite's fee
 s. If you are unable to attend\, please do get in touch with us on info@dr
 aw-brighton.co.uk to discuss the options for transferring your place to an
 other attendee.   
ATTACH;FMTTYPE=image/jpeg:https://xyzbrighton.com/wp-content/uploads/2025/
 07/100773_image.jpg
CATEGORIES:Arts
LOCATION:Draw Brighton\, Studio 1 South Level 5\, New England House New Eng
 land Street\, Brighton and Hove\, BN1 4GH\, Brighton and Hove\, England\, 
 BN1 4GH\, United Kingdom
GEO:50.832444;-0.138845
X-APPLE-STRUCTURED-LOCATION;VALUE=URI;X-ADDRESS=Studio 1 South Level 5\, Ne
 w England House New England Street\, Brighton and Hove\, BN1 4GH\, Brighto
 n and Hove\, England\, BN1 4GH\, United Kingdom;X-APPLE-RADIUS=100;X-TITLE
 =Draw Brighton:geo:50.832444,-0.138845
END:VEVENT
BEGIN:VTIMEZONE
TZID:Europe/London
X-LIC-LOCATION:Europe/London
BEGIN:DAYLIGHT
DTSTART:20250330T020000
TZOFFSETFROM:+0000
TZOFFSETTO:+0100
TZNAME:BST
END:DAYLIGHT
END:VTIMEZONE
END:VCALENDAR