BEGIN:VCALENDAR
VERSION:2.0
PRODID:-//wp-events-plugin.com//7.1.1//EN
TZID:Europe/London
X-WR-TIMEZONE:Europe/London
BEGIN:VEVENT
UID:22702@xyzbrighton.com
DTSTART;TZID=Europe/London:20240907T180000
DTEND;TZID=Europe/London:20240907T230000
DTSTAMP:20240429T101301Z
URL:https://xyzbrighton.com/events/ill-nino-at-the-arch-brighton/
SUMMARY:ILL NINO at The Arch - Brighton
DESCRIPTION:Latin metallers ILL NINO celebrating 25 years\, joined by moder
 n metal machine EKTOMORF\, and nu-groove upstarts MIND INCISION.\n\nTicket
 s https://tinyurl.com/2p9knd8f\n£25 adv. // 18:00\n\n--------------------
 --\n\nPresented by ba-concerts.com\n\n----------------------\nILL NINOface
 book.com/Officialillnino\n\nLatin Metallers\, Ill NiNo\, have announced a 
 European and UK tour entitled the '25 Years Of Latin Metal Tour' to mark a
  quarter century of their career. The tour will feature direct support fro
 m modern metal machine Ektomorf\, alongside nu-groove upstarts Mind Incisi
 on.\n\nfacebook.com/EKTOMORF.official\nfacebook.com/mindincision\n\nhttps:
 //youtu.be/OI-fWgyMXYA\n\nURLs:\n\nTickets: https://go.evvnt.com/2385731-0
 ?pid=11065\nFacebook: https://go.evvnt.com/2385731-2?pid=11065\n\nDate and
  Time: On Saturday September 07\, 2024 at 6:00 pm - 11:00 pm\n\nVenue deta
 ils:\nThe Arch Brighton\, 187-193 Kings Road\, Brighton\, England\, BN1 1N
 B\, United Kingdom\n\nCategory: Festivals | Live Music\n\nPrice:\nGeneral 
 Admission: GBP 25.00\n\nArtists: Ill NiNo\, Ektomorf\, Mind Incision
ATTACH;FMTTYPE=image/jpeg:https://xyzbrighton.com/wp-content/uploads/2024/
 04/460.jpg
CATEGORIES:Live Music
LOCATION:The Arch Brighton\, 187-193 Kings Road\, Brighton and Hove\, Engla
 nd\, BN1 1NB\, United Kingdom
GEO:50.819992;-0.142235
X-APPLE-STRUCTURED-LOCATION;VALUE=URI;X-ADDRESS=187-193 Kings Road\, Bright
 on and Hove\, England\, BN1 1NB\, United Kingdom;X-APPLE-RADIUS=100;X-TITL
 E=The Arch Brighton:geo:50.819992,-0.142235
END:VEVENT
BEGIN:VTIMEZONE
TZID:Europe/London
X-LIC-LOCATION:Europe/London
BEGIN:DAYLIGHT
DTSTART:20240331T020000
TZOFFSETFROM:+0000
TZOFFSETTO:+0100
TZNAME:BST
END:DAYLIGHT
END:VTIMEZONE
END:VCALENDAR