BEGIN:VCALENDAR
VERSION:2.0
PRODID:-//wp-events-plugin.com//7.1.1//EN
TZID:Europe/London
X-WR-TIMEZONE:Europe/London
BEGIN:VEVENT
UID:23468@xyzbrighton.com
DTSTART;TZID=Europe/London:20250522T193000
DTEND;TZID=Europe/London:20250522T220000
DTSTAMP:20250521T140159Z
URL:https://xyzbrighton.com/events/happily-never-after-2025-05-22/
SUMMARY:Happily Never After
DESCRIPTION:\n\n\nThe Maydays return to the Fringe with their 5-star improv
 ised show – Happily Never After – a ‘darkly comedic’ twisted mus
 ical tale inspired by gothic themes\, fairytales\, and the warped imaginat
 ions that brought us Lemony Snicket\, Beetlejuice\, Shockheaded Peter and 
 Grimm’s Tales.\n\nPlucked from the seed of your suggestion\, The Maydays
  will take you on a unique journey – weaving a gothic tale that’s comp
 letely different every time. There’s no telling what strange characters\
 , innocent beasts or talking objects you might meet along the way!\n\nThe 
 Maydays have been wowing audiences across the UK and Europe with packed ho
 uses and standing ovations for their spontaneous show\, which Reviews Hub 
 called ‘touching\, incredibly funny’ and ‘rich in narrative twists a
 nd charm’.\n\nWith a bespoke\, improvised soundtrack for every show\, th
 is will be a truly creepy\, mischievous and fantastical experience.\nBrigh
 ton Fringe 2025 dates: 22nd\, 23rd &amp\; 24th May 2025\, 19:30\, Doors 19
 :00\, Wagner Hall – Book Here.\n\n\nFantastic performances … improvis
 ational theatre at its best. – Broadway Baby\, *****\n\n\n\n\nEmotion
 ally touching\, incredibly funny\, rich in narrative twists and charm. 
 – The Reviews Hub\, *****\n\n\n\nDark and hilarious\, The Maydays prov
 e yet again that they are maestros of their craft. – The Wee Review\,
  ****\n\n\n\n\n\n\n\n\n
ATTACH;FMTTYPE=image/jpeg:https://xyzbrighton.com/wp-content/uploads/2025/
 05/Screenshot-2025-05-14-at-16.19.35-1.png
CATEGORIES:Arts,Comedy,Performance,Theatre
LOCATION:Wagner Hall\, 2 Regency Road\, Brighton and Hove\, England\, BN1 2
 RU\, United Kingdom
GEO:50.82267;-0.144372
X-APPLE-STRUCTURED-LOCATION;VALUE=URI;X-ADDRESS=2 Regency Road\, Brighton a
 nd Hove\, England\, BN1 2RU\, United Kingdom;X-APPLE-RADIUS=100;X-TITLE=Wa
 gner Hall:geo:50.82267,-0.144372
END:VEVENT
BEGIN:VTIMEZONE
TZID:Europe/London
X-LIC-LOCATION:Europe/London
BEGIN:DAYLIGHT
DTSTART:20250330T020000
TZOFFSETFROM:+0000
TZOFFSETTO:+0100
TZNAME:BST
END:DAYLIGHT
END:VTIMEZONE
END:VCALENDAR