BEGIN:VCALENDAR
VERSION:2.0
PRODID:-//wp-events-plugin.com//7.1.1//EN
TZID:Europe/London
X-WR-TIMEZONE:Europe/London
BEGIN:VEVENT
UID:22992@xyzbrighton.com
DTSTART;TZID=Europe/London:20241207T110000
DTEND;TZID=Europe/London:20241207T150000
DTSTAMP:20241128T090750Z
URL:https://xyzbrighton.com/events/forage-and-feast-forage-walk-with-wild-
 lunch-brighton-foraging-vegan/
SUMMARY:Forage and Feast Forage walk with Wild Lunch\, Brighton Foraging. V
 egan
DESCRIPTION:Come take a leisurely stroll with us looking at edible Plants\,
  Herbs and Fungi with a Lunch Demo! Taste the best nature has to offer!Exp
 erience the thrill of foraging in Stanmer Park with URBAN FORAGE’s train
 ed experts.Join us for a fun and exciting outdoor forage walk where you’
 ll learn about wild food\, fungi\, fruit\, berries and plants. After the w
 alk\, enjoy a delicious lunch made from the ingredients we found during th
 e forage.Includes Identification tips\, harvest guidance and recipe ideas\
 , with a cooking demonstration and Lunch.This is a great opportunity to me
 et likeminded people while enjoying the outdoors and learning about nature
 ’s bounty. Book now and bring your appetite.
ATTACH;FMTTYPE=image/jpeg:https://xyzbrighton.com/wp-content/uploads/2024/
 11/99506_image.jpg
CATEGORIES:Food &amp; Drink
LOCATION:Urban Forage\, Stanmer Craft Museum\, Stanmer\, BN1 9SE\, Stanmer\
 , England\, BN1 9SE\, United Kingdom
GEO:50.86934;-0.103724
X-APPLE-STRUCTURED-LOCATION;VALUE=URI;X-ADDRESS=Stanmer Craft Museum\, Stan
 mer\, BN1 9SE\, Stanmer\, England\, BN1 9SE\, United Kingdom;X-APPLE-RADIU
 S=100;X-TITLE=Urban Forage:geo:50.86934,-0.103724
END:VEVENT
BEGIN:VTIMEZONE
TZID:Europe/London
X-LIC-LOCATION:Europe/London
BEGIN:STANDARD
DTSTART:20241027T010000
TZOFFSETFROM:+0100
TZOFFSETTO:+0000
TZNAME:GMT
END:STANDARD
END:VTIMEZONE
END:VCALENDAR