BEGIN:VCALENDAR
VERSION:2.0
PRODID:-//wp-events-plugin.com//7.1.1//EN
TZID:Europe/London
X-WR-TIMEZONE:Europe/London
BEGIN:VEVENT
UID:24927@xyzbrighton.com
DTSTART;TZID=Europe/London:20260502T120000
DTEND;TZID=Europe/London:20260504T210000
DTSTAMP:20260216T174950Z
URL:https://xyzbrighton.com/events/foodies-festival-2026/
SUMMARY:Foodies Festival 2026
DESCRIPTION:FOODIES FESTIVAL RETURNS TO BRIGHTON FOR A SPECTACULAR 21ST BIR
 THDAY CELEBRATION\n\nFood lovers\, music fans and families are in for a tr
 eat as Foodies Festival returns to Preston Park from 2nd – 4th May 2026\
 , bringing three packed days of delicious food\, live music\, hands-on exp
 eriences and family fun.\n\nNow celebrating its 21st birthday\, the much-l
 oved festival is marking the occasion with its biggest and most exciting y
 ear yet – featuring brand-new attractions\, headline music acts\, star c
 hefs and bakers\, and a strong showcase of local culinary and musical tale
 nt.\n\nAfter welcoming record-breaking visitor numbers last year\, Foodies
  Festival is back in Brighton with an expanded programme designed for all 
 ages – from live cooking demonstrations\, headline bands and tasting ses
 sions to kids’ activities\, wellbeing experiences and dog-friendly fun.\
 n\nSTAR CHEFS\, LOCAL TALENT AND LIVE COOKING DEMOS\n\nAcross the weekend\
 , visitors can enjoy a huge array of live cooking demonstrations in the fa
 mous Chefs Theatre and Baking Theatre\, with appearances from stars of Mas
 terChef\, The Great British Bake Off and Great British Menu\, alongside ac
 claimed chefs from the local area.\n\nConfirmed names appearing at Brighto
 n - \n\nSophie Surgue (2025 MasterChef Finalists)\nSteven Edrwads – ETC
 H\nDuncan Ray – Little Fish Market\nPeter Danatus – The Burnt Orange\n
 Kanthi Thamma - The Spice Circuit Brighton\nDhruv Baker - Celebrity Chef\,
  Author &amp\; MasterChef Champion\nTom Rhodes - MasterChef Champion\nWill
  Dennard – Med\nRadika Howarth - TV Chef plus many more still to be anno
 unced.\n\nLIVE MUSIC EVERY EVENING\n\nEach day\, the festival comes alive 
 with live music on the Music Stage\, featuring headline touring acts\, loc
 al bands and choirs.\n\nAlready confirmed for the main stage are:\nScoutin
 g For Girls Boyzlife – Brian McFadden (Westlife) and Keith Duffy (Boyzon
 e)\n\nOne more BIG headliner announcement to come!\n\n&nbsp\;
ATTACH;FMTTYPE=image/jpeg:https://xyzbrighton.com/wp-content/uploads/2026/
 02/Celebrating-21-Years_1080x1080-insta.jpeg
CATEGORIES:Festivals
LOCATION:Preston Park\, Brighton \, Brighton and Hove\, England\, BN1 6SD\,
  United Kingdom
GEO:50.842492;-0.150035
X-APPLE-STRUCTURED-LOCATION;VALUE=URI;X-ADDRESS=Brighton \, Brighton and Ho
 ve\, England\, BN1 6SD\, United Kingdom;X-APPLE-RADIUS=100;X-TITLE=Preston
  Park:geo:50.842492,-0.150035
END:VEVENT
BEGIN:VTIMEZONE
TZID:Europe/London
X-LIC-LOCATION:Europe/London
BEGIN:DAYLIGHT
DTSTART:20260329T020000
TZOFFSETFROM:+0000
TZOFFSETTO:+0100
TZNAME:BST
END:DAYLIGHT
END:VTIMEZONE
END:VCALENDAR