BEGIN:VCALENDAR
VERSION:2.0
PRODID:-//wp-events-plugin.com//7.1.1//EN
TZID:Europe/London
X-WR-TIMEZONE:Europe/London
BEGIN:VEVENT
UID:2929@xyzbrighton.com
DTSTART;TZID=Europe/London:20190223T190000
DTEND;TZID=Europe/London:20190223T220000
DTSTAMP:20191122T030139Z
URL:https://xyzbrighton.com/events/fleetwood-bac/
SUMMARY:FLEETWOOD BAC
DESCRIPTION:Fleetwood Bac has been rated by The Times newspaper as one of 
 the UK's top 5 tribute acts touring alongside Bootleg Beatles\, Counterfei
 t Stones\, Bjorn Again and with rave reviews in 'The Stage'\, fantastic en
 dorsements from many of the official Fleetwood Mac fanzines\, and from the
  official  Stevie Nicks website. They have had ecstatic audiences whereve
 r they have played across the world.\n"Keep up the good work\, Much needed
 " MICK FLEETWOOD\n"Painstaking Accuracy" THE TIMES\n"Spot On" STAGE MAG
 AZINE\n"They Sound Terrific. The Vocals are spot on\, musicianship faultle
 ss. Two hours of heaven" THE OBSERVER\nRestrictions\nOver 14s welcome\, u
 nder 16s must be accompanied by a adult (18+)\, ID will be required.
ATTACH;FMTTYPE=image/jpeg:https://xyzbrighton.com/wp-content/uploads/2019/
 02/FLEETWOOD-BAC_Brighton.jpg
CATEGORIES:Live Music
LOCATION:\, \, 
X-APPLE-STRUCTURED-LOCATION;VALUE=URI;X-ADDRESS=\, ;X-APPLE-RADIUS=100;X-TI
 TLE=:geo:0,0
END:VEVENT
BEGIN:VTIMEZONE
TZID:Europe/London
X-LIC-LOCATION:Europe/London
BEGIN:STANDARD
DTSTART:20181028T010000
TZOFFSETFROM:+0100
TZOFFSETTO:+0000
TZNAME:GMT
END:STANDARD
END:VTIMEZONE
END:VCALENDAR