BEGIN:VCALENDAR
VERSION:2.0
PRODID:-//wp-events-plugin.com//7.1.1//EN
TZID:Europe/London
X-WR-TIMEZONE:Europe/London
BEGIN:VEVENT
UID:22401@xyzbrighton.com
DTSTART;TZID=Europe/London:20231005T180000
DTEND;TZID=Europe/London:20231005T210000
DTSTAMP:20231004T152754Z
URL:https://xyzbrighton.com/events/film-short-circuit-multiplicity/
SUMMARY:FILM: Short Circuit - MULTIPLICITY
DESCRIPTION:MULTIPLICITY - this programme of experimental docs embrace idea
 s around profusion\, assortment and repetition in unique ways.Presented in
  partnership with Short Circuit MULTIPLICITY  programme / 1hr 40mins / Som
 e films subtitled Most often used to mean a large number of things ‘mult
 iplicity’ can refer to a variety of things- or the variety in things. Th
 e experimental documentary films in this programme embrace multiplicity an
 d ideas around profusion\, assortment and repetition in thoughtful\, surpr
 ising and unique ways.T﻿he programme has a short break in the middle and
  an informal discussion post-screening.Featuring films by:Magdalena Bermud
 ezCurtis Byrnside Miller Justyna KabalaChloé Galibert-LaînéLei LeiRoger
  HornDuncan Poulton &amp\; Sally BeetsHesam RahmaniNajeeb TaraziThe Caring
  GroupJeff Young Short Circuit is a non-profit\, volunteer-run community e
 vent and is part of the BFI Audience Network and FilmHub SE. Launched in N
 ovember 2015\, themed screenings invite\, emerging\, established and award
  winning filmmakers to share alternative approaches to documentary storyte
 lling. Doors &amp\; refreshments open at 6pm for a 6:30pm start. Affordabl
 e refreshments on site. We recommend booking in advance for this event as 
 places are limited. Bookings can also be made in person at Fabrica by spea
 king to a member of the team during office hours (9am - 5pm Monday to Frid
 ay). No booking fee applies to in person bookings.Online bookings will clo
 se 1 hour before the event starts - unless ‘Sold Out’ there is likely 
 to still be tickets available on the door.Fabrica is a registered charity 
 and donations are always welcome: add a donation ticket on top of your exi
 sting ticket(s) or sign up to make a regular donation here.For Fabrica’s
  full programme of events please visit www.fabrica.org.uk/whats-on 
ATTACH;FMTTYPE=image/jpeg:https://xyzbrighton.com/wp-content/uploads/2023/
 10/97771_image.jpg
CATEGORIES:Cinema &amp; FIlm
LOCATION:Fabrica\, 40 Duke Street\, Brighton\, BN1 1AG\, Brighton\, England
 \, BN1 1AG\, United Kingdom
GEO:50.822746;-0.141959
X-APPLE-STRUCTURED-LOCATION;VALUE=URI;X-ADDRESS=40 Duke Street\, Brighton\,
  BN1 1AG\, Brighton\, England\, BN1 1AG\, United Kingdom;X-APPLE-RADIUS=10
 0;X-TITLE=Fabrica:geo:50.822746,-0.141959
END:VEVENT
BEGIN:VTIMEZONE
TZID:Europe/London
X-LIC-LOCATION:Europe/London
BEGIN:DAYLIGHT
DTSTART:20230326T020000
TZOFFSETFROM:+0000
TZOFFSETTO:+0100
TZNAME:BST
END:DAYLIGHT
END:VTIMEZONE
END:VCALENDAR